BEGIN:VCALENDAR
VERSION:2.0
PRODID:-//Fredericksburg Pride - ECPv6.15.20//NONSGML v1.0//EN
CALSCALE:GREGORIAN
METHOD:PUBLISH
X-ORIGINAL-URL:https://fxbgpride.org
X-WR-CALDESC:Events for Fredericksburg Pride
REFRESH-INTERVAL;VALUE=DURATION:PT1H
X-Robots-Tag:noindex
X-PUBLISHED-TTL:PT1H
BEGIN:VTIMEZONE
TZID:America/New_York
BEGIN:DAYLIGHT
TZOFFSETFROM:-0500
TZOFFSETTO:-0400
TZNAME:EDT
DTSTART:20240310T070000
END:DAYLIGHT
BEGIN:STANDARD
TZOFFSETFROM:-0400
TZOFFSETTO:-0500
TZNAME:EST
DTSTART:20241103T060000
END:STANDARD
BEGIN:DAYLIGHT
TZOFFSETFROM:-0500
TZOFFSETTO:-0400
TZNAME:EDT
DTSTART:20250309T070000
END:DAYLIGHT
BEGIN:STANDARD
TZOFFSETFROM:-0400
TZOFFSETTO:-0500
TZNAME:EST
DTSTART:20251102T060000
END:STANDARD
BEGIN:DAYLIGHT
TZOFFSETFROM:-0500
TZOFFSETTO:-0400
TZNAME:EDT
DTSTART:20260308T070000
END:DAYLIGHT
BEGIN:STANDARD
TZOFFSETFROM:-0400
TZOFFSETTO:-0500
TZNAME:EST
DTSTART:20261101T060000
END:STANDARD
END:VTIMEZONE
BEGIN:VEVENT
DTSTART;TZID=America/New_York:20250621T080000
DTEND;TZID=America/New_York:20250621T170000
DTSTAMP:20260421T114444
CREATED:20250406T021659Z
LAST-MODIFIED:20250604T160042Z
UID:10000446-1750492800-1750525200@fxbgpride.org
SUMMARY:SWEAT For A Cause!
DESCRIPTION:Join us at the Sweat FXBG for a Pride Trifecta Event! Celebrate inclusivity and community with a day full of fitness challenges\, vibrant activities\, and positive vibes. Get ready to lift\, ride\, and sweat at this empowering gathering. Everyone is welcome to experience the energy of Sweat FXBG. Mark your calendars and be part of the excitement!\n90 minute HIT\, CYCLE + SCULPT!\n\nChoose your time:8:00AM8:45AM9:30AM\n\nCost $25.00\n\nAddress: 3453 Fall Hill Ave\, Fredericksburg\, VA 22401\n\nRegistration link: https://sweatfxbg.com/schedule\n\nAccessibility: This is an active event that can be accommodated for different skill levels\, is held indoors and has (3) 30 minute segments. The gym has a heavy swing door for entrance.\nAlt Photo Text: Digital Image of the interior of SWEAT FXBG . Black column to the left of the image. Text says: SWEAT FOR A CAUSE\, 90 minute hit\, cycle\, + sculpt! Choose your time: 8:00AM\, 8:45AM\, 9:30AM\, June 21st\, 3453 Fall Hill Ave\, Fredericksburg\, VA 22401. Logos include FXBG PRIDE Logo and SWEAT FXBG Logo (logo description needed).\n\n#sweatforacause #fundraiser #localevents #supportlocal #communityevents #thisisfredericksburg #sapphic #lesbian #transgender #beyou #supporteachother #pride #gay #loveislove #queer #love #gaypride #bi #allies #lovewins #rainbow #genderfluid #lgbtpride #lgbtqia #equality #fxbgpride #fxbglgbtqia #fredericksburgpride #nonprofit
URL:https://fxbgpride.org/event/sweat-for-a-cause/
LOCATION:Sweat FXBG\, 3453 Fall Hill Ave\, Fredericksburg\, VA 22401\, United States
CATEGORIES:Community Event,Fundraiser
ATTACH;FMTTYPE=image/png:https://fxbgpride.org/wp-content/uploads/2025/04/Sweat-Fundraiser-4.png
ORGANIZER;CN="Fredericksburg Pride":MAILTO:fxbgpride@gmail.com
END:VEVENT
END:VCALENDAR