BEGIN:VCALENDAR
VERSION:2.0
PRODID:-//Fredericksburg Pride - ECPv6.15.20//NONSGML v1.0//EN
CALSCALE:GREGORIAN
METHOD:PUBLISH
X-WR-CALNAME:Fredericksburg Pride
X-ORIGINAL-URL:https://fxbgpride.org
X-WR-CALDESC:Events for Fredericksburg Pride
REFRESH-INTERVAL;VALUE=DURATION:PT1H
X-Robots-Tag:noindex
X-PUBLISHED-TTL:PT1H
BEGIN:VTIMEZONE
TZID:America/New_York
BEGIN:DAYLIGHT
TZOFFSETFROM:-0500
TZOFFSETTO:-0400
TZNAME:EDT
DTSTART:20240310T070000
END:DAYLIGHT
BEGIN:STANDARD
TZOFFSETFROM:-0400
TZOFFSETTO:-0500
TZNAME:EST
DTSTART:20241103T060000
END:STANDARD
BEGIN:DAYLIGHT
TZOFFSETFROM:-0500
TZOFFSETTO:-0400
TZNAME:EDT
DTSTART:20250309T070000
END:DAYLIGHT
BEGIN:STANDARD
TZOFFSETFROM:-0400
TZOFFSETTO:-0500
TZNAME:EST
DTSTART:20251102T060000
END:STANDARD
BEGIN:DAYLIGHT
TZOFFSETFROM:-0500
TZOFFSETTO:-0400
TZNAME:EDT
DTSTART:20260308T070000
END:DAYLIGHT
BEGIN:STANDARD
TZOFFSETFROM:-0400
TZOFFSETTO:-0500
TZNAME:EST
DTSTART:20261101T060000
END:STANDARD
END:VTIMEZONE
BEGIN:VEVENT
DTSTART;TZID=America/New_York:20250403T181500
DTEND;TZID=America/New_York:20250403T200000
DTSTAMP:20260425T071508
CREATED:20250207T202212Z
LAST-MODIFIED:20250207T202410Z
UID:10000417-1743704100-1743710400@fxbgpride.org
SUMMARY:Transgender Support Meeting by Forging a Community Transgender Support Group
DESCRIPTION:Fredericksburg Pride is happy to announce that FXBG FACTS – Forging a Community Transgender Support is now a program of FXBG PRIDE.\n\n\nUnder our umbrella\, “FACTS” will still operate regularly.\n\n\n\nYou can join FACTS at their monthly support meeting. Support meeting is typically at 6:15pm every first Thursday at the Pride Center FXBG (Entrance through the back door) but subject to change for special events.\n\n\n\nFollow the FXBG FACTS Facebook Page to see their upcoming events!\n\n\n\nFor questions regarding FACTS Programming please email Allie MacMurray at allym3716@gmail.com.\n\n\n\nAlt Photo Text: The main image: Forging a Community Transgender Support Logo** is centered with a gold ring (**A blacksmith anvil and hammer centered between the “Transgender Symbol” Text says FXBG FACTS and the trans flag colors are within the logo). A transgender flag blows in the wind in the background. The FXBG PRIDE Logo is in the bottom left. Text is repeated 4x making a square surround the FACTS logo: NOW A PART OF FXBG PRIDE.
URL:https://fxbgpride.org/event/transgender-support-meeting-by-forging-a-community-transgender-support-group-copy-2/2025-04-03/
LOCATION:FAHASS PRIDE CENTER\, 415 Elm Street\, Fredericksburg\, VA\, 22401\, United States
CATEGORIES:Social Support,Transgender Program
ATTACH;FMTTYPE=image/png:https://fxbgpride.org/wp-content/uploads/2024/07/Join-Team-Instagram-Post.png
ORGANIZER;CN="Fredericksburg Pride":MAILTO:fxbgpride@gmail.com
END:VEVENT
BEGIN:VEVENT
DTSTART;TZID=America/New_York:20250412T150000
DTEND;TZID=America/New_York:20250412T180000
DTSTAMP:20260425T071508
CREATED:20250406T024532Z
LAST-MODIFIED:20250407T000032Z
UID:10000447-1744470000-1744480800@fxbgpride.org
SUMMARY:Winery Meetup hosted by Forging a Community Transgender Support
DESCRIPTION:Join Forging a Community Transgender Support at Wilderness Run Winery on April 12th from 3-6pm \n  \nForging a Community Transgender Support is FXBGs regional transgender support group. Events are open to the public\, those who identify as transgender or questioning\, and allies of the community including parents of. \n  \nAlt Photo Text: Poster for Winery Meetup. Yellow background image of two women holding a glass of wine\, transgender flag banner in the middle with event details listed. Event details: Winery Meetup\, Wilderness Run Winery\, 11109 Plank Rd\, Hosted by Forging a Community Transgender Support\, April 12th 3-6pm\, fxbgpride.org\, *Must be 21+ to consume alcohol*\, No purchase necessary to attend.
URL:https://fxbgpride.org/event/winery-meetup-hosted-by-forging-a-community-transgender-support/
LOCATION:Wilderness Run Winery\, 11109 Plank Rd\, Lake of the Woods\, VA 22508\, VA\, United States
CATEGORIES:Community Event,Social Support,Transgender Program
ATTACH;FMTTYPE=image/png:https://fxbgpride.org/wp-content/uploads/2025/04/Winery-Meetup-2.png
ORGANIZER;CN="Fredericksburg Pride":MAILTO:fxbgpride@gmail.com
END:VEVENT
BEGIN:VEVENT
DTSTART;TZID=America/New_York:20250416T183000
DTEND;TZID=America/New_York:20250416T193000
DTSTAMP:20260425T071508
CREATED:20250325T184456Z
LAST-MODIFIED:20250325T184456Z
UID:10000444-1744828200-1744831800@fxbgpride.org
SUMMARY:Rainbow Reads: Little Rot by Akwaeke Emezi
DESCRIPTION:Rainbow Reads: Little Rot by Akwaeke Emezi \nAn LGBTQ+ and allies book group. In partnership with FXBG Pride and Central Rappahannock Regional Library \nSuitable for: Adults
URL:https://fxbgpride.org/event/rainbow-reads-little-rot-by-akwaeke-emezi/
LOCATION:Central Rappahannock Regional Library\, 1201 Carline Street\, Fredericksburg\, VA\, 22401\, United States
CATEGORIES:Book Club,Social Support
ATTACH;FMTTYPE=image/png:https://fxbgpride.org/wp-content/uploads/2025/03/FXBG-RR-1.png
ORGANIZER;CN="Fredericksburg Pride":MAILTO:fxbgpride@gmail.com
END:VEVENT
BEGIN:VEVENT
DTSTART;TZID=America/New_York:20250418T180000
DTEND;TZID=America/New_York:20250418T203000
DTSTAMP:20260425T071508
CREATED:20250526T202253Z
LAST-MODIFIED:20250526T202702Z
UID:10000455-1744999200-1745008200@fxbgpride.org
SUMMARY:LGBTQIA+ Youth Sanctuary - 3rd Fridays
DESCRIPTION:Fredericksburg Pride is happy to share in partnership with the Unitarian Universalist Fellowship of Fredericksburg – a Youth Sanctuary (this is not a “church youth group”). \n\nThe youth will meet every third Friday of the month. Event location subject to change based on the nights event.\n\nIf YOU (a youth) or your LGBTQIA+ youth child is interested in attending please fill out this form for details. \nEvent details not all in description for safety of our LGBTQIA+ minors. \n\nAges 12-20\n3rd Fridays\n6:00pm-8:30pm\nLocation not shared for safety\n\n**YOUTH SANCTUARY REGISTRATION – REQUIRED**
URL:https://fxbgpride.org/event/lgbtqia-youth-sanctuary-3rd-fridays-2/2025-04-18/
LOCATION:VA
CATEGORIES:Community Event,Social Support,Youth
ATTACH;FMTTYPE=image/png:https://fxbgpride.org/wp-content/uploads/2025/03/Calling-all-LGBTQ-youth.png.png
ORGANIZER;CN="Fredericksburg Pride":MAILTO:fxbgpride@gmail.com
END:VEVENT
BEGIN:VEVENT
DTSTART;TZID=America/New_York:20250419T130000
DTEND;TZID=America/New_York:20250419T140000
DTSTAMP:20260425T071508
CREATED:20250314T165747Z
LAST-MODIFIED:20250325T234344Z
UID:10000429-1745067600-1745071200@fxbgpride.org
SUMMARY:Slow Flow Yoga - Community "Cool Down" - Free
DESCRIPTION:Time & Location\n\n\nWhen: April 19th\, 1:00 PM – 2:00 PM \nLocation: Dragonfly Yoga Studio – Fredericksburg\, 810 Caroline St\, Fredericksburg\, VA 22401\, USA \nReservation Required: Click here to sign up – Put in April 19 – 1:00 \n\n\n\n\nAbout the Event\n\n\nNeed a cool down and grounding event from everything going on? \nDragonfly Yoga is hosting FREE Slow Flow Yoga for FXBG Pride on Saturday\, April 19th\, 1:00 PM – 2:00 PM \nJoin us for an opportunity to relax and unwind. Perfect for all levels – no yoga experience necessary. The studio has about 10 yoga mats available to borrow. Participants are encouraged to bring their own yoga mat if possible\, there are limited to borrow.  Everything else needed for practice will be provided. \nAccessibility: Dragonfly Yoga Studio is not wheelchair accessible. There is a flight of stairs to access the studio.
URL:https://fxbgpride.org/event/slow-flow-yoga-community-cool-down-free/
LOCATION:Dragonfly Yoga Studio\, 810 Caroline St\, Fredericksburg\, VA\, 22401\, United States
CATEGORIES:Social Support
ATTACH;FMTTYPE=image/png:https://fxbgpride.org/wp-content/uploads/2025/03/Dragonfly-Slow-Flow-Yoga-2.png
ORGANIZER;CN="Fredericksburg Pride":MAILTO:fxbgpride@gmail.com
END:VEVENT
BEGIN:VEVENT
DTSTART;TZID=America/New_York:20250427T120000
DTEND;TZID=America/New_York:20250427T150000
DTSTAMP:20260425T071508
CREATED:20250406T030630Z
LAST-MODIFIED:20250406T030824Z
UID:10000448-1745755200-1745766000@fxbgpride.org
SUMMARY:Day Hike at Motts Reservoir hosted by Forging a Community Transgender Support
DESCRIPTION:Join Forging a Community Transgender Support at Motts Run Reservoir on April 27th from 12pm-3pm. \nWe will be meeting in the lower parking lot (a short drive from the entrance). Please wear appropriate hiking in the woods shoes + bring water and if needed a light snack. \nForging a Community Transgender Support is FXBGs regional transgender support group. Events are open to the public\, those who identify as transgender or questioning\, and allies of the community including parents of. \nAlt Photo Text: Poster for Winery Meetup. image of a person smiling with trees behind them\, transgender flag banner in the middle with event details listed. Event details: Day Hike @ Motts\, Mott Run Reservoir\, 6600 River Rd\, Fredericksburg\, hosted by Forging a Community Transgender Support\, April 27th\, 12-3pm\, fxbgpride.org\, No purchase necessary to attend.
URL:https://fxbgpride.org/event/day-hike-at-motts-reservoir-hosted-by-forging-a-community-transgender-support/
LOCATION:Motts Run Reservoir\, 6600 River Rd\, Fredericksburg\, VA 22407\, VA\, United States
ATTACH;FMTTYPE=image/png:https://fxbgpride.org/wp-content/uploads/2025/04/Day-Hike.png
ORGANIZER;CN="Fredericksburg Pride":MAILTO:fxbgpride@gmail.com
END:VEVENT
BEGIN:VEVENT
DTSTART;TZID=America/New_York:20250428T183000
DTEND;TZID=America/New_York:20250428T203000
DTSTAMP:20260425T071508
CREATED:20250526T205859Z
LAST-MODIFIED:20250526T210405Z
UID:10000486-1745865000-1745872200@fxbgpride.org
SUMMARY:LGBTQIA+ All Womxns Group - Last Mondays
DESCRIPTION:ALL Womens Group\n\nThis social support event is for ALL Women – 18+ belonging in the S2LGBTQIA+ community.\nThis program typically meets on the last Monday of the month –monthly location subject to change due to that nights activity!\n\nWhen? Last Monday of the Month Time: 6:30-8:30pm\nCost: Cost of Meal – Attendance is FREE\nLocation: Changes Monthly based on that months event! (If we havent updated this month yet – email mhenry.fxbgpride@gmail.com for event details!)\n\n*Sponsorship available with request – please email us at fxbgpride@gmail.com to discuss details.\n\n*Please note majority of our womxns events are not sponsored by the location chosen*\n\nAccessibility: Dinner will typically be inside. be inside at booths + tables. At a smaller restaurant\, we will have multiple tables. Seating may be outside. Masks are not required for those fully vaxxed + boosted and encouraged for those who are not. Fredericksburg Pride is happy to accommodate American Sign Language interpreting services if needed – please request this within two weeks of the event by emailing us at fredericksburgpride@gmail.com so that we may have adequate time to schedule an interpreter on site.\n\nAlt Photo Text: Purple\, Pink\, Orange border. FXBG PRIDE logo centered up top. Text states: WOMENS Group (WOMENS is made up of pinks/purple picture’s of past events.)\, Calendar image w/ Last Monday of the month. Clock image w/ From 6:30-8:30pm\, Location ping image w/ Changes based on monthly location. Text states Join us the last Monday of the month for our ALL womens LGBTQIA+ group!
URL:https://fxbgpride.org/event/lgbtqia-all-womxns-group-last-mondays/2025-04-28/
LOCATION:VA
CATEGORIES:All Womens Program,Social Support
ATTACH;FMTTYPE=image/png:https://fxbgpride.org/wp-content/uploads/2025/05/FXBG-PRIDE-Womens-Group.png
ORGANIZER;CN="Fredericksburg Pride":MAILTO:fxbgpride@gmail.com
END:VEVENT
END:VCALENDAR