BEGIN:VCALENDAR
VERSION:2.0
PRODID:-//Fredericksburg Pride - ECPv6.15.20//NONSGML v1.0//EN
CALSCALE:GREGORIAN
METHOD:PUBLISH
X-ORIGINAL-URL:https://fxbgpride.org
X-WR-CALDESC:Events for Fredericksburg Pride
REFRESH-INTERVAL;VALUE=DURATION:PT1H
X-Robots-Tag:noindex
X-PUBLISHED-TTL:PT1H
BEGIN:VTIMEZONE
TZID:America/New_York
BEGIN:DAYLIGHT
TZOFFSETFROM:-0500
TZOFFSETTO:-0400
TZNAME:EDT
DTSTART:20230312T070000
END:DAYLIGHT
BEGIN:STANDARD
TZOFFSETFROM:-0400
TZOFFSETTO:-0500
TZNAME:EST
DTSTART:20231105T060000
END:STANDARD
BEGIN:DAYLIGHT
TZOFFSETFROM:-0500
TZOFFSETTO:-0400
TZNAME:EDT
DTSTART:20240310T070000
END:DAYLIGHT
BEGIN:STANDARD
TZOFFSETFROM:-0400
TZOFFSETTO:-0500
TZNAME:EST
DTSTART:20241103T060000
END:STANDARD
BEGIN:DAYLIGHT
TZOFFSETFROM:-0500
TZOFFSETTO:-0400
TZNAME:EDT
DTSTART:20250309T070000
END:DAYLIGHT
BEGIN:STANDARD
TZOFFSETFROM:-0400
TZOFFSETTO:-0500
TZNAME:EST
DTSTART:20251102T060000
END:STANDARD
END:VTIMEZONE
BEGIN:VEVENT
DTSTART;TZID=America/New_York:20241003T181500
DTEND;TZID=America/New_York:20241003T200000
DTSTAMP:20260422T224945
CREATED:20240708T175744Z
LAST-MODIFIED:20240708T180708Z
UID:10000385-1727979300-1727985600@fxbgpride.org
SUMMARY:Transgender Support Meeting by Forging a Community Transgender Support Group
DESCRIPTION:Fredericksburg Pride is happy to announce that FXBG FACTS – Forging a Community Transgender Support is now a program of FXBG PRIDE.\n\n\nUnder our umbrella\, “FACTS” will still operate regularly.\n\n\n\nYou can join FACTS at their monthly support meeting. Support meeting is typically at 6:15pm every first Thursday at the Pride Center FXBG (Entrance through the back door) but subject to change for special events.\n\n\n\nFollow the FXBG FACTS Facebook Page to see their upcoming events!\n\n\n\nFor questions regarding FACTS Programming please email Allie MacMurray at allym3716@gmail.com.\n\n\n\nAlt Photo Text: The main image: Forging a Community Transgender Support Logo** is centered with a gold ring (**A blacksmith anvil and hammer centered between the “Transgender Symbol” Text says FXBG FACTS and the trans flag colors are within the logo). A transgender flag blows in the wind in the background. The FXBG PRIDE Logo is in the bottom left. Text is repeated 4x making a square surround the FACTS logo: NOW A PART OF FXBG PRIDE.
URL:https://fxbgpride.org/event/transgender-support-meeting-by-forging-a-community-transgender-support-group/2024-10-03/
LOCATION:FAHASS PRIDE CENTER\, 415 Elm Street\, Fredericksburg\, VA\, 22401\, United States
CATEGORIES:Social Support,Transgender Program
ATTACH;FMTTYPE=image/png:https://fxbgpride.org/wp-content/uploads/2024/07/Join-Team-Instagram-Post.png
ORGANIZER;CN="Fredericksburg Pride":MAILTO:fxbgpride@gmail.com
END:VEVENT
BEGIN:VEVENT
DTSTART;TZID=America/New_York:20241011T120000
DTEND;TZID=America/New_York:20241011T130000
DTSTAMP:20260422T224945
CREATED:20241009T192014Z
LAST-MODIFIED:20241009T192014Z
UID:10000401-1728648000-1728651600@fxbgpride.org
SUMMARY:Lunch and Learn: Coming Out Day
DESCRIPTION:We will be with Central Rappahannock Regional Library on Friday to discuss National Coming Out Day\, its history and how to support a person you know who is coming out! \nJoin us Friday at noon either in person or online: https://streamyard.com/qu9eayz9d3.
URL:https://fxbgpride.org/event/lunch-and-learn-coming-out-day/
LOCATION:
ORGANIZER;CN="Fredericksburg Pride":MAILTO:fxbgpride@gmail.com
END:VEVENT
BEGIN:VEVENT
DTSTART;TZID=America/New_York:20241016T183000
DTEND;TZID=America/New_York:20241016T193000
DTSTAMP:20260422T224945
CREATED:20240924T190150Z
LAST-MODIFIED:20240924T190150Z
UID:10000398-1729103400-1729107000@fxbgpride.org
SUMMARY:October Rainbow Reads: Camp Damascus by Chuck Tingle
DESCRIPTION:LGBTQ+ and allies book group hosted by Central Rappahannock Regional Library and FXBG PRIDE\n\nOctober: Camp Damascus by Chuck Tingle* Suitable for Adults and Seniors* Type: Book Group* Language: English* Location: Rappahannock Regional Library – Fredericksburg Branch – 1201 Caroline St. – Room 3.* Date: Wednesday October 16thEvent is typically held on the third Wednesday of every month @6:30pm.\n\nAccessibility: Rappahannock Regional Library is wheelchair accessible with an elevator to multiple floors. Please contact Rappahannock Regional Library for virtual access to this event: sara.parker-gray@crrl.org\n\nAlt Photo Text: A colorful flyer with the next upcoming book club events listed. Text Reads: Rainbow Reads\, an LGBTQ+ and allies book group\, 3rd Wednesdays\, 6:30-7:30. New Members Welcome. In partnership with (FXBG PRIDE LOGO). The bottom footer is the Central Rappahannock Regional Library Logo. The background behind the flyer is of bookshelves with books on them.Image 1 on the flyer: Book cover More Happy Than not by Adam Silvera September 18Image 2 on the flyer: Book cover Camp Damascus by Chuck Tingle October 16Image 3 on the flyer: Book cover Mostly Dead Things by Kristen Arnett November 20Book cover descriptions needed
URL:https://fxbgpride.org/event/october-rainbow-reads-camp-damascus-by-chuck-tingle/
LOCATION:Central Rappahannock Regional Library\, 1201 Carline Street\, Fredericksburg\, VA\, 22401\, United States
CATEGORIES:Book Club,Book Reading,Social Support
ATTACH;FMTTYPE=image/png:https://fxbgpride.org/wp-content/uploads/2024/09/RR-Fall.png
ORGANIZER;CN="Fredericksburg Pride":MAILTO:fxbgpride@gmail.com
END:VEVENT
BEGIN:VEVENT
DTSTART;TZID=America/New_York:20241024T180000
DTEND;TZID=America/New_York:20241024T200000
DTSTAMP:20260422T224945
CREATED:20241010T183825Z
LAST-MODIFIED:20241010T183825Z
UID:10000402-1729792800-1729800000@fxbgpride.org
SUMMARY:Halloween Cookie Decorating
DESCRIPTION: Join Us for a Spooktacular Halloween Cookie Decorating Party! \n Date: October 24th\, 2023 Time: 6:00 PM – 8:00 PM Location: Pride Center FXBG\n\nGet ready for a frightfully fun afternoon of Halloween cookie decorating! Whether you’re a cookie-decorating pro or a total newbie\, we’ve got everything you need to unleash your creativity! This is a FREE event!\n\n What’s Provided:– Sugar cookies– A variety of frostings in festive colors– Toppings and decorations to make your cookies truly boo-tiful!\n\nAccessibility: Enter from the back of the building (Wawa Side)\, building is wheelchair accessible\, event will be mostly sitting. Masks are not required but recommended for those without the Covid vaccination.\n\nAlt Photo Text: Fall leaves background images of pumpkin and coffee shaped cookies. Text reads: Cookie Decorating\, Please join us October 24th from 6-8pm at the Pride Center as we get in the Spooky Sprit with FXBG Pride to decorate cookies together!Sugar cookies and frosting provided – you only need to bring yourself! 4343 Plank Road\, Suite 100 & 110\, Fredericksburg VA 22407
URL:https://fxbgpride.org/event/halloween-cookie-decorating/
LOCATION:FAHASS PRIDE CENTER\, 415 Elm Street\, Fredericksburg\, VA\, 22401\, United States
ATTACH;FMTTYPE=image/jpeg:https://fxbgpride.org/wp-content/uploads/2024/10/462692187_3751595181725143_5760790845099074852_n.jpg
ORGANIZER;CN="Fredericksburg Pride":MAILTO:fxbgpride@gmail.com
END:VEVENT
BEGIN:VEVENT
DTSTART;TZID=America/New_York:20241027T120000
DTEND;TZID=America/New_York:20241027T134500
DTSTAMP:20260422T224945
CREATED:20241012T005353Z
LAST-MODIFIED:20241025T152922Z
UID:10000403-1730030400-1730036700@fxbgpride.org
SUMMARY:October Drag Show - (CANCELLED)
DESCRIPTION:CANCELLED – We apologize for any inconvenience but due to low ticket sales we must cancel this event.  \nFredericksburg Pride and Bello Manzo is hosting Drag Lunch – Halloween Theme!!! \nCome dressed up in your Halloween outfit!  \nFeat: Tijuana Spark\, Shenandoah + Climaxx \n10% of all meal proceeds will be donated to FXBG PRIDE! So grab a ticket\, have a great brunch\, tip your performers and enjoy the show! \nDate: Sunday\, October 27th\nTime: 12:00pm-1:45pm\nLocation: Bello Manzo 715 Caroline St\, Fredericksburg\, VA 22401\nCost: Tickets are $15.00\, cost of food\, cash tips for performers\nRecommended Age: 18+ \nTicket Link: https://donorbox.org/events/694962 \nAlt photo Text: Poster for Drag Brunch. Footer is a head shot of all 3 performers with a wood table background with halloween items. Text states event details: Drag Lunch\, Feat Shenandoah\, Tijuana Spark and Climaxx\, Oct 27th\, 12-1:45pm \, $15\, 10% of meal proceeds donated to FXBG PRIDE\, a halloween banner spells HALLOWEEEN in orange and black. theres a text box with spooky font that states “Halloween Outfit Contest”. A QR code with the ticket link is in the top right corner \nAccessibility: The event will be held inside the front area of the restaurant. There is a step to get inside.  Booths are cushioned and some tables are half booth / half chairs. We cannot accommodate seat reservations. Tables may be shared and are first come first serve. No ramp. \nBello Manzo Menu: https://www.bellomanzo.com/?fbclid=IwY2xjawF2o_JleHRuA2FlbQIxMAABHWL3MkBDmlME2aDHuRCRUM_Itg9mNvrFy4tou32ssywhzCQwENiehj-lZQ_aem_ORFR4DUArwJi7WMRwBVBJw#menu
URL:https://fxbgpride.org/event/october-drag-show-halloween-theme-at-bello-manzo/
LOCATION:Bello Manzo\, 715 Caroline St\, Fredericksburg\, VA\, 22401\, United States
CATEGORIES:Drag Show
ATTACH;FMTTYPE=image/png:https://fxbgpride.org/wp-content/uploads/2024/10/October-Drag-Show-1.png
ORGANIZER;CN="Fredericksburg Pride":MAILTO:fxbgpride@gmail.com
END:VEVENT
BEGIN:VEVENT
DTSTART;TZID=America/New_York:20241028T183000
DTEND;TZID=America/New_York:20241028T203000
DTSTAMP:20260422T224945
CREATED:20250526T205859Z
LAST-MODIFIED:20250526T210405Z
UID:10000480-1730140200-1730147400@fxbgpride.org
SUMMARY:LGBTQIA+ All Womxns Group - Last Mondays
DESCRIPTION:ALL Womens Group\n\nThis social support event is for ALL Women – 18+ belonging in the S2LGBTQIA+ community.\nThis program typically meets on the last Monday of the month –monthly location subject to change due to that nights activity!\n\nWhen? Last Monday of the Month Time: 6:30-8:30pm\nCost: Cost of Meal – Attendance is FREE\nLocation: Changes Monthly based on that months event! (If we havent updated this month yet – email mhenry.fxbgpride@gmail.com for event details!)\n\n*Sponsorship available with request – please email us at fxbgpride@gmail.com to discuss details.\n\n*Please note majority of our womxns events are not sponsored by the location chosen*\n\nAccessibility: Dinner will typically be inside. be inside at booths + tables. At a smaller restaurant\, we will have multiple tables. Seating may be outside. Masks are not required for those fully vaxxed + boosted and encouraged for those who are not. Fredericksburg Pride is happy to accommodate American Sign Language interpreting services if needed – please request this within two weeks of the event by emailing us at fredericksburgpride@gmail.com so that we may have adequate time to schedule an interpreter on site.\n\nAlt Photo Text: Purple\, Pink\, Orange border. FXBG PRIDE logo centered up top. Text states: WOMENS Group (WOMENS is made up of pinks/purple picture’s of past events.)\, Calendar image w/ Last Monday of the month. Clock image w/ From 6:30-8:30pm\, Location ping image w/ Changes based on monthly location. Text states Join us the last Monday of the month for our ALL womens LGBTQIA+ group!
URL:https://fxbgpride.org/event/lgbtqia-all-womxns-group-last-mondays/2024-10-28/
LOCATION:VA
CATEGORIES:All Womens Program,Social Support
ATTACH;FMTTYPE=image/png:https://fxbgpride.org/wp-content/uploads/2025/05/FXBG-PRIDE-Womens-Group.png
ORGANIZER;CN="Fredericksburg Pride":MAILTO:fxbgpride@gmail.com
END:VEVENT
END:VCALENDAR