BEGIN:VCALENDAR
VERSION:2.0
PRODID:-//Fredericksburg Pride - ECPv6.15.20//NONSGML v1.0//EN
CALSCALE:GREGORIAN
METHOD:PUBLISH
X-ORIGINAL-URL:https://fxbgpride.org
X-WR-CALDESC:Events for Fredericksburg Pride
REFRESH-INTERVAL;VALUE=DURATION:PT1H
X-Robots-Tag:noindex
X-PUBLISHED-TTL:PT1H
BEGIN:VTIMEZONE
TZID:America/New_York
BEGIN:DAYLIGHT
TZOFFSETFROM:-0500
TZOFFSETTO:-0400
TZNAME:EDT
DTSTART:20230312T070000
END:DAYLIGHT
BEGIN:STANDARD
TZOFFSETFROM:-0400
TZOFFSETTO:-0500
TZNAME:EST
DTSTART:20231105T060000
END:STANDARD
BEGIN:DAYLIGHT
TZOFFSETFROM:-0500
TZOFFSETTO:-0400
TZNAME:EDT
DTSTART:20240310T070000
END:DAYLIGHT
BEGIN:STANDARD
TZOFFSETFROM:-0400
TZOFFSETTO:-0500
TZNAME:EST
DTSTART:20241103T060000
END:STANDARD
BEGIN:DAYLIGHT
TZOFFSETFROM:-0500
TZOFFSETTO:-0400
TZNAME:EDT
DTSTART:20250309T070000
END:DAYLIGHT
BEGIN:STANDARD
TZOFFSETFROM:-0400
TZOFFSETTO:-0500
TZNAME:EST
DTSTART:20251102T060000
END:STANDARD
END:VTIMEZONE
BEGIN:VEVENT
DTSTART;TZID=America/New_York:20240221T183000
DTEND;TZID=America/New_York:20240221T193000
DTSTAMP:20260422T072106
CREATED:20240110T190839Z
LAST-MODIFIED:20240125T170107Z
UID:10000333-1708540200-1708543800@fxbgpride.org
SUMMARY:Rainbow Reads Book Club - February - D'Vaughn and Kris Plan a Wedding by Chencia C. Higgins
DESCRIPTION:An LGBTQ+ and allies book group hosted by Rappahannock Regional Library sponsored by FXBG PRIDE \nFebruary 21st: D’Vaughn and Kris Plan a Wedding by Chencia C. Higgins \nVisit our Pride Month page for more library resources. \nSuitable for Adults and Seniors \nType: Book Group \nLanguage: English \nLocation: Rappahannock Regional Library – Fredericksburg Branch – 1201 Caroline St. – Room 3. \nDate: Wednesday\, February 21st . Event is typically held on the third Wednesday of every month @6:30pm. \nCost: Free \nAccessibility: Rappahannock Regional Library is wheelchair accessible with an elevator to multiple floors. Please contact Rappahannock Regional Library for virtual access to this event: sara.parker-gray@crrl.org
URL:https://fxbgpride.org/event/rainbow-reads-book-club-february-dvaughn-and-kris-plan-a-wedding-by-chencia-c-higgins/
LOCATION:Rappahannock Regional Library – Howell Branch\, 1201 Caroline Street\, Fredericksburg\, VA\, 22401\, United States
CATEGORIES:Book Club,Book Reading,Social Support
ATTACH;FMTTYPE=image/png:https://fxbgpride.org/wp-content/uploads/2024/01/RR-Winter.png
ORGANIZER;CN="Fredericksburg Pride":MAILTO:fxbgpride@gmail.com
END:VEVENT
BEGIN:VEVENT
DTSTART;TZID=America/New_York:20240224T173000
DTEND;TZID=America/New_York:20240224T193000
DTSTAMP:20260422T072106
CREATED:20240205T191401Z
LAST-MODIFIED:20240205T191510Z
UID:10000342-1708795800-1708803000@fxbgpride.org
SUMMARY:I LOVE ME - Hair and Wigs (FREE)
DESCRIPTION:Date: Saturday\, February 24th\nTime: 5:30-7:30pm\nLocation: Salon 730 – 730 Kenmore Ave\, Fredericksburg\, VA 22401\nFredericksburg Pride is proud to bring back the I LOVE ME series! A collective group of workshops as a reminder to love oneself!\nJOIN Fredericksburg Pride Nonprofit and Salon 730 as we provide an ALL GENDERS Hair and Wig Workshop!\nWhat will be discussed:\n* Types of Wigs\n* How to prepare and put on a wig\n* What pruducts and tools to use\n* Types of hair products and what they are used for\n* The correct order to use products\nAbout our sponsor – Salon 730 (a sponsor of FXBG PRIDE FEST) Salon 730 is committed to exceptional customer service\, and the art of beauty and wellness.\nWe are a team based salon\, which creates an open\, non-competitive environment so that you “our guest” may enjoy the convenience of service with any one of our talented team members.\nWe maintain the leading edge in current and upcoming styles and trend\, with continuous and advanced education.\nThis is event FREE and for ALL AGES!\nAccessibility: Salon 730 is a wheelchair accessible salon. We will be mostly sitting for the event.\nALT Photo Text: Fredericksburg Pride and Salon 730 logo\nSaturday\, February 24th Wednesday 15th 5:30PM – 7:30PM\, Types of wigs\, How to prepare and put on a wig\, what products and tools to use\, types of hair products and what they are use5d for\, the correct order to use products\, what basic tools are used for wigs and hair. FREE
URL:https://fxbgpride.org/event/i-love-me-hair-and-wigs-free/
LOCATION:Salon 730\, 730 Kenmore Avenue\, Fredericksburg\, VA\, 22401\, United States
CATEGORIES:Educational,Health,Workshop
ATTACH;FMTTYPE=image/png:https://fxbgpride.org/wp-content/uploads/2024/02/I-love-me-Hair-1.png
ORGANIZER;CN="Fredericksburg Pride":MAILTO:fxbgpride@gmail.com
END:VEVENT
BEGIN:VEVENT
DTSTART;TZID=America/New_York:20240226T183000
DTEND;TZID=America/New_York:20240226T203000
DTSTAMP:20260422T072106
CREATED:20240221T174646Z
LAST-MODIFIED:20240221T174646Z
UID:10000346-1708972200-1708979400@fxbgpride.org
SUMMARY:All Womens - Cider Lab
DESCRIPTION:All Womens Group – Cider Lab \nThis social support event is for ALL Women – 18+ belonging in the S2LGBTQIA+ community. \nThis program typically meets on the last Monday of the month –\nmonthly location subject to change due to that nights activity! \nMonday\, February 26th\n6:30-8:30pm – Cider Lab – 7501 Graham Street\, Spotyslvania Va\nCost: Cost of Drinks / Meal \n*Alcohol is not permitted for anyone under the age of 21* \n*Non-Alocholic Sponsorship available with request – please email us at fxbgpride@gmail.com to discuss details. \n*Please note this is not a Cider Lab Sponsored event* \nAccessibility: Cider Lab has a concrete sidewalk entrance and swinging doors to enter with low chairs and tables. Seating will be inside. Masks are not required for those fully vaxxed + boosted and encouraged for those who are not. Fredericksburg Pride is happy to accommodate American Sign Language interpreting services if needed – please request this within two weeks of the event by emailing us at fredericksburgpride@gmail.com so that we may have adequate time to schedule an interpreter on site. \nAlt Photo Text: Purple\, Pink\, Orange border. FXBG PRIDE logo centered up top. Text states: WOMENS Group (WOMENS is made up of pinks/purple picture’s of past events.)\, Calendar image w/ Monday\, February 26th . Clock image w/ From 6:30-8:30pm\, Location ping image w/ Cider Lab\, 7501 Graham Street\, Spotyslvania Va. Text states Join us Monday night for drinks and dinner!
URL:https://fxbgpride.org/event/all-womens-cider-lab/
LOCATION:Cider Lab\, 7501 Graham St suite 128\, Spotsylvania Courthouse\, VA 22553\, United States
CATEGORIES:All Womens Program,Social Support
ATTACH;FMTTYPE=image/png:https://fxbgpride.org/wp-content/uploads/2024/02/FXBG-PRIDE-Womens-Group-February-1.png
ORGANIZER;CN="Fredericksburg Pride":MAILTO:fxbgpride@gmail.com
END:VEVENT
END:VCALENDAR