BEGIN:VCALENDAR
VERSION:2.0
PRODID:-//Fredericksburg Pride - ECPv6.15.20//NONSGML v1.0//EN
CALSCALE:GREGORIAN
METHOD:PUBLISH
X-WR-CALNAME:Fredericksburg Pride
X-ORIGINAL-URL:https://fxbgpride.org
X-WR-CALDESC:Events for Fredericksburg Pride
REFRESH-INTERVAL;VALUE=DURATION:PT1H
X-Robots-Tag:noindex
X-PUBLISHED-TTL:PT1H
BEGIN:VTIMEZONE
TZID:America/New_York
BEGIN:DAYLIGHT
TZOFFSETFROM:-0500
TZOFFSETTO:-0400
TZNAME:EDT
DTSTART:20220313T070000
END:DAYLIGHT
BEGIN:STANDARD
TZOFFSETFROM:-0400
TZOFFSETTO:-0500
TZNAME:EST
DTSTART:20221106T060000
END:STANDARD
BEGIN:DAYLIGHT
TZOFFSETFROM:-0500
TZOFFSETTO:-0400
TZNAME:EDT
DTSTART:20230312T070000
END:DAYLIGHT
BEGIN:STANDARD
TZOFFSETFROM:-0400
TZOFFSETTO:-0500
TZNAME:EST
DTSTART:20231105T060000
END:STANDARD
BEGIN:DAYLIGHT
TZOFFSETFROM:-0500
TZOFFSETTO:-0400
TZNAME:EDT
DTSTART:20240310T070000
END:DAYLIGHT
BEGIN:STANDARD
TZOFFSETFROM:-0400
TZOFFSETTO:-0500
TZNAME:EST
DTSTART:20241103T060000
END:STANDARD
END:VTIMEZONE
BEGIN:VEVENT
DTSTART;TZID=America/New_York:20231002T183000
DTEND;TZID=America/New_York:20231002T203000
DTSTAMP:20260419T121742
CREATED:20230831T151345Z
LAST-MODIFIED:20230831T152701Z
UID:10000320-1696271400-1696278600@fxbgpride.org
SUMMARY:Youth Night - Pumpkin Carving
DESCRIPTION:YOUTH NIGHT – Pumpkin Carving – BRING YOUR OWN PUMPKIN \nThis youth social support event is for all youth ages 13-19 belonging in the S2LGBTQIA+ community – or family/friends of that are 13-19 years of age! \nThis program meets on the first Monday of the month – monthly locations subject to change due to that nights activity! \n*Please note this is not a FAHASS PRIDE CENTER Sponsored event* \nCost:  BRING YOUR OWN PUMPKIN (Pumpkin Sponsorship Available: Please contact mhenry.fxbgpride@gmail.com for Pumpkin Sponsorship!) – All other materials will be provided (gloves\, carving utensils\, table cloth). \nAccessibility: The Pride Center will have chairs to sit at and is wheelchair accessible. Fredericksburg Pride is happy to accommodate American Sign Language interpreting services if needed – please request this within two weeks of the event by emailing us at fredericksburgpride@gmail.com so that we may have adequate time to schedule an interpreter on site. \nAlt Photo Text: colorful confetti splash background\, FXBG PRIDE LOGO\, (4) youth kids taking a selfie\, Text states: Pumpkin Carving\, Monday October 2nd\,  6:30-8:30\, FAHASS PRIDE CENTER\, 4343 Plank Rd Suite 100 & 110\, Fredericksburg\, VA 22407
URL:https://fxbgpride.org/event/youth-night-pumpkin-carving/
LOCATION:FAHASS PRIDE CENTER\, 415 Elm Street\, Fredericksburg\, VA\, 22401\, United States
CATEGORIES:Social Support,Youth
ATTACH;FMTTYPE=image/png:https://fxbgpride.org/wp-content/uploads/2023/08/October-Youth-Night-.png
ORGANIZER;CN="Fredericksburg Pride":MAILTO:fxbgpride@gmail.com
END:VEVENT
BEGIN:VEVENT
DTSTART;TZID=America/New_York:20231017T183000
DTEND;TZID=America/New_York:20231017T193000
DTSTAMP:20260419T121742
CREATED:20230925T030307Z
LAST-MODIFIED:20231006T122525Z
UID:10000329-1697567400-1697571000@fxbgpride.org
SUMMARY:LGBTQ+ Teen Book Group: October - Right Where I Left You by Julian Winters
DESCRIPTION:A Teen LGBTQ+ and allies book group hosted by Rappahannock Regional Library and FXBG PRIDE \nOctober – Right Where I Left You by Julian Winters \nSuitable for teens and young adults \nType: Book Group \nLanguage: English \nLocation: Rappahannock Regional Library – Fredericksburg Branch – 1201 Caroline St. – Second Floor \nDate: Tuesday October 17th – Event is held on the third Tuesday of every month @6:30pm. \nCost: Free – book rentals available through the library. \nAccessibility: Rappahannock Regional Library is wheelchair accessible with an elevator to multiple floors. Please contact Central Rappahannock Regional Library for virtual access to this event: owen.cobey@crrl.org \nAlt Photo Text: A colorful flyer with the next upcoming book club events listed. Text Reads: LGBTQ+ Teen Book Club in partnership with  (FXBG PRIDE LOGO)\, 3rd Tuesdays\, 6:30-7:30pm\, The bottom footer is the Central Rappahannock Regional Library Logo. The background behind the flyer is of bookshelves flying in the air.\nImage 1 on the flyer: Book cover Snapdragon by Kat Leyh – September 19th\nImage 2 on the flyer: Book cover Right Where I Left You by Julian Winters – October 17th\nImage 3 on the flyer: Book cover Pardalita by Joana Estrela – November 21st\nBook cover descriptions needed.
URL:https://fxbgpride.org/event/lgbtq-teen-book-group-october-right-where-i-left-you-by-julian-winters/
LOCATION:Rappahannock Regional Library – Howell Branch\, 1201 Caroline Street\, Fredericksburg\, VA\, 22401\, United States
CATEGORIES:Book Club,Book Reading,Social Support,Youth
ATTACH;FMTTYPE=image/jpeg:https://fxbgpride.org/wp-content/uploads/2023/09/65369-LGBTQ-Teen-Book-Group-tab-scaled.jpg
ORGANIZER;CN="Fredericksburg Pride":MAILTO:fxbgpride@gmail.com
END:VEVENT
BEGIN:VEVENT
DTSTART;TZID=America/New_York:20231018T183000
DTEND;TZID=America/New_York:20231018T193000
DTSTAMP:20260419T121742
CREATED:20230822T000655Z
LAST-MODIFIED:20230925T003058Z
UID:10000317-1697653800-1697657400@fxbgpride.org
SUMMARY:Rainbow Reads Book Club - October: The Cabin at the End of the World by Paul Tremblay
DESCRIPTION:An LGBTQ+ and allies book group hosted by Rappahannock Regional Library sponsored by FXBG PRIDE \nOctober: The Cabin at the End of the World by Paul Tremblay \nVisit our Pride Month page for more library resources. \nSuitable for Adults and Seniors \nType: Book Group \nLanguage: English \nLocation: Rappahannock Regional Library – Fredericksburg Branch – 1201 Caroline St. – Room 3. \nDate: Wednesday October 18th. Event is held on the third Wednesday of every month @6:30pm. \nAccessibility: Rappahannock Regional Library is wheelchair accessible with an elevator to multiple floors. Please contact Rappahannock Regional Library for virual access to this event: sara.parker-gray@crrl.org
URL:https://fxbgpride.org/event/rainbow-reads-book-club-4/
LOCATION:Rappahannock Regional Library – Howell Branch\, 1201 Caroline Street\, Fredericksburg\, VA\, 22401\, United States
CATEGORIES:Book Club,Social Support
ATTACH;FMTTYPE=image/jpeg:https://fxbgpride.org/wp-content/uploads/2023/08/65394-Rainbow-Reads-tab-scaled.jpg
ORGANIZER;CN="Fredericksburg Pride":MAILTO:fxbgpride@gmail.com
END:VEVENT
BEGIN:VEVENT
DTSTART;TZID=America/New_York:20231021T160000
DTEND;TZID=America/New_York:20231021T230000
DTSTAMP:20260419T121742
CREATED:20230831T162936Z
LAST-MODIFIED:20231016T182853Z
UID:10000322-1697904000-1697929200@fxbgpride.org
SUMMARY:Spooky Queer Town Takeover
DESCRIPTION:Time & Location\n\n\nWhen: October 21st \, 4:00 PM – 11:00 PM \nLocation: Fredericksburg Market Square – 909 Princess Anne St\, Fredericksburg\, VA 22401\, USA \n\n\n\nWHERE CAN YOU SUPPORT DAY OF:\n\nCity Vino – 12pm-4pm- 10% of proceeds from all sales donated to FXBG PRIDE \nEATS Burgers – ALL DAY – mention “SPOOKY” for 10% of of your purchase donated to FXBG PRIDE \nAwesome Possumz – ALL DAY – 10% of proceeds from all sales donated to FXBG PRIDE \n\n\nAbout the Event\n\n\nFredericksburg Pride is hosting our first SPOOKY QUEER TOWN TAKEOVER \nSaturday\, October 21st we are hosting a costumes’-welcomes Fall / Spooky QUEER TOWN TAKEOVER bringing queer business into downtown Fredericksburg. This season we are looking to partner with 5 local businesses the day of! \nOur FREE main event will be at Historic Market Square behind the Fredericksburg Area Museum from 4pm-11pm with live performances\, special guest MC Loo\, drag show by Haus Of Kuntessa\, drinks and a late night GLOW Dance Party! \n7:30-8:30pm – Haus of Kuntessa Drag \n9pm-11pm – Costume + Glow Dance Party \n#SPOOKYQUEERTOWNTAKEOVER #fxbgpride #supportlocalbusinesses \n\nAlt Photo Text: Rainbow with a black background and pumpkins floating around. A post it with FXBG PRIDE Logo text saying “Presents”. A polaroid with black background text says “Spooky Queer Town Takeover October 21st” Spooky text is orange and dripping.
URL:https://fxbgpride.org/event/spooky-queer-town-takeover/
LOCATION:Fredericksburg Market Square\, 909 Princess Anne St\, Fredericksburg\, VA\, 22401\, United States
CATEGORIES:Entertainment,Social Support
ATTACH;FMTTYPE=image/png:https://fxbgpride.org/wp-content/uploads/2023/08/Spooky-Queer-Town-Takeover-2.png
ORGANIZER;CN="Fredericksburg Pride":MAILTO:fxbgpride@gmail.com
END:VEVENT
BEGIN:VEVENT
DTSTART;TZID=America/New_York:20231030T183000
DTEND;TZID=America/New_York:20231030T203000
DTSTAMP:20260419T121742
CREATED:20230925T000120Z
LAST-MODIFIED:20230925T002453Z
UID:10000328-1698690600-1698697800@fxbgpride.org
SUMMARY:All Womens Group - Coffee Chat
DESCRIPTION:All Womens Group – Coffee Chat @ Agora\nThis social support  event is sponsored by Fredericksburg Pride and for ALL Women – 18+ belonging in the S2LGBTQIA+ community – including allies!\nThis program meets on the last Monday of the month – monthly location subject to change due to that nights activity!\n\nMonday\, October 30th – Coffee Chat @ Agora – BRING A BLANKET – Seating may be full inside\n\nAbout Agora: https://www.agoradowntown.com/\n\nCost: Cost of Drink- NO purchase necessary to attend\n\n*Please note this is not an Agora Sponsored event*\n\nAccessibility: The restaurant has wheelchair access and street parking. We will be mostly sitting inside unless seating in the back is full. Bring a blanket in case we need to sit outside. Masks are not required for those fully vaxxed + boosted and encouraged for those who are not. Fredericksburg Pride is happy to accommodate American Sign Language interpreting services if needed – please request this within two weeks of the event by emailing us at fredericksburgpride@gmail.com so that we may have adequate time to schedule an interpreter on site.\n\nAlt Photo Text: Three sections – tiny purple column\, large blue column with text\, rainbow column. IMAGES: FXBG PRIDE Logo + Cream circle with 18+. Text states: ALL WOMENS Coffee Chat\, October 30th\, 6:00-8:00PM Agora Coffee Shop\, 520 Caroline St\, Fredericksburg\, VA 22401
URL:https://fxbgpride.org/event/all-womens-group-coffee-chat/
LOCATION:Agora Coffee\, 520 Caroline St · Fredericksburg\, VA
CATEGORIES:All Womens Program,Social Support
ATTACH;FMTTYPE=image/png:https://fxbgpride.org/wp-content/uploads/2023/09/quote-23-1.png
ORGANIZER;CN="Fredericksburg Pride":MAILTO:fxbgpride@gmail.com
END:VEVENT
END:VCALENDAR