BEGIN:VCALENDAR
VERSION:2.0
PRODID:-//Fredericksburg Pride - ECPv6.15.20//NONSGML v1.0//EN
CALSCALE:GREGORIAN
METHOD:PUBLISH
X-WR-CALNAME:Fredericksburg Pride
X-ORIGINAL-URL:https://fxbgpride.org
X-WR-CALDESC:Events for Fredericksburg Pride
REFRESH-INTERVAL;VALUE=DURATION:PT1H
X-Robots-Tag:noindex
X-PUBLISHED-TTL:PT1H
BEGIN:VTIMEZONE
TZID:America/New_York
BEGIN:DAYLIGHT
TZOFFSETFROM:-0500
TZOFFSETTO:-0400
TZNAME:EDT
DTSTART:20220313T070000
END:DAYLIGHT
BEGIN:STANDARD
TZOFFSETFROM:-0400
TZOFFSETTO:-0500
TZNAME:EST
DTSTART:20221106T060000
END:STANDARD
BEGIN:DAYLIGHT
TZOFFSETFROM:-0500
TZOFFSETTO:-0400
TZNAME:EDT
DTSTART:20230312T070000
END:DAYLIGHT
BEGIN:STANDARD
TZOFFSETFROM:-0400
TZOFFSETTO:-0500
TZNAME:EST
DTSTART:20231105T060000
END:STANDARD
BEGIN:DAYLIGHT
TZOFFSETFROM:-0500
TZOFFSETTO:-0400
TZNAME:EDT
DTSTART:20240310T070000
END:DAYLIGHT
BEGIN:STANDARD
TZOFFSETFROM:-0400
TZOFFSETTO:-0500
TZNAME:EST
DTSTART:20241103T060000
END:STANDARD
END:VTIMEZONE
BEGIN:VEVENT
DTSTART;TZID=America/New_York:20230701T130000
DTEND;TZID=America/New_York:20230701T140000
DTSTAMP:20260421T162642
CREATED:20230614T131005Z
LAST-MODIFIED:20230620T165527Z
UID:10000001-1688216400-1688220000@fxbgpride.org
SUMMARY:Slow Flow Yoga - Pride Month "Cool Down" - FREE
DESCRIPTION:Time & Location\n\n\nWhen: Jul 01\, 1:00 PM – 2:00 PM \nLocation: Dragonfly Yoga Studio – Fredericksburg\, 810 Caroline St &\, 501 William St\, Fredericksburg\, VA 22401\, USA \n\n\n\n\nAbout the Event\n\n\nNeed a cool down and grounding event from Pride Month? \nDragonfly Yoga is hosting FREE Slow Flow Yoga for FXBG Pride on Saturday\, July 1st\, 1:00 PM – 2:00 PM \nJoin us for an opportunity to relax and unwind. Perfect for all levels – no yoga experience necessary. The studio has about 10 yoga mats available to borrow. Participants are encouraged to bring their own yoga mat if possible\, there are limited to borrow.  Everything else needed for practice will be provided. \nAccessibility: Dragonfly Yoga Studio is not wheelchair accessible. There is a flight of stairs to access the studio.
URL:https://fxbgpride.org/event/need-a-cool-down-and-grounding-event-from-pride-month/
LOCATION:Dragonfly Yoga Studio\, 810 Caroline St\, Fredericksburg\, VA\, 22401\, United States
CATEGORIES:Social Support
ATTACH;FMTTYPE=image/png:https://fxbgpride.org/wp-content/uploads/2023/06/Dragonfly-Slow-Flow-Yoga-1.png
ORGANIZER;CN="Fredericksburg Pride":MAILTO:fxbgpride@gmail.com
END:VEVENT
BEGIN:VEVENT
DTSTART;TZID=America/New_York:20230707T200000
DTEND;TZID=America/New_York:20230707T220000
DTSTAMP:20260421T162642
CREATED:20230616T194749Z
LAST-MODIFIED:20230616T194803Z
UID:10000002-1688760000-1688767200@fxbgpride.org
SUMMARY:Queer Poetry Open Mic
DESCRIPTION:Time & Location\n\n\nWhen: Join us Friday\, July 7th from 8:00 pm – 10:00 pm for FREE Open Mic! \nLocation: Katora Coffee – 615 Caroline St. Fredericksburg\, VA 22401 \nAbout the Event\n\n\nFredericksburg PRIDE and Katora Coffee are partnering up for Queer Poetry Open Mic! \nAccessibility: Katora Coffee’s main floor is wheelchair accessible. The event floor has about 7 stairs up and limited seating. The stage has one step up\, a chair\, and a mic. \n 
URL:https://fxbgpride.org/event/queer-poetry-open-mic/
LOCATION:Katora Coffee\, 615 Caroline St.\, Fredericksburg\, VA\, 22401\, United States
CATEGORIES:Entertainment
ATTACH;FMTTYPE=image/png:https://fxbgpride.org/wp-content/uploads/2023/06/Queer-Open-Mic-1.png
ORGANIZER;CN="Fredericksburg Pride":MAILTO:fxbgpride@gmail.com
END:VEVENT
BEGIN:VEVENT
DTSTART;TZID=America/New_York:20230726T180000
DTEND;TZID=America/New_York:20230726T193000
DTSTAMP:20260421T162642
CREATED:20230707T192406Z
LAST-MODIFIED:20230713T152904Z
UID:10000307-1690394400-1690399800@fxbgpride.org
SUMMARY:Rainbow Reads Book Club
DESCRIPTION:An LGBTQ+ and allies book group hosted by Rappahannock Regional Library sponsored by FXBG PRIDE \nJuly: One Last Stop by Casey McQuiston \nVisit our Pride Month page for more library resources. \nSuitable for Adults and Seniors \nType: Book Group \nLanguage: English
URL:https://fxbgpride.org/event/rainbow-reads-book-club/
LOCATION:Rappahannock Regional Library – Howell Branch\, 1201 Caroline Street\, Fredericksburg\, VA\, 22401\, United States
CATEGORIES:Book Club,Social Support
ATTACH;FMTTYPE=image/jpeg:https://fxbgpride.org/wp-content/uploads/2023/07/64987-Rainbow-Reads-FX-tab-scaled.jpg
ORGANIZER;CN="Fredericksburg Pride":MAILTO:fxbgpride@gmail.com
END:VEVENT
BEGIN:VEVENT
DTSTART;TZID=America/New_York:20230726T200000
DTEND;TZID=America/New_York:20230726T210000
DTSTAMP:20260421T162642
CREATED:20230713T152239Z
LAST-MODIFIED:20230713T152239Z
UID:10000308-1690401600-1690405200@fxbgpride.org
SUMMARY:Pride Dance Class with Company 360 - FREE
DESCRIPTION:Company Three Sixty Dance Studio is partnering with Fredericksburg Pride is host a FREE Dance Class on Wednesday July 26th from 8PM-9PM at 314 Forbes St\, Fredericksburg\, VA 22401.\n\nJoin us for an opportunity to learn some choreography from one of their shows! This event is for all ages and all skill levels – no dance experience necessary.\n\nAccessibility: Company 360 is wheelchair accessible.\n\nParking is located on Forbes Street and Charles Street\, plus a small parking lot on the side of the building.\n\nAlt Photo Text: Digital art: A dancer stands on one foot\, the other knee is bent and toes are pointed in towards the calf – arms raised up elegantly. FXBG PRIDE and Company 360 logo are at the top. There is a white background\, image is bordered in yellow. All text in black stats: Dance Class\, July 26th\, 8pm-9pm\, Company 360 Dance Theatre\, 314 Forbes St\, Fredericksburg\, VA 22401. All Ages\, FREE
URL:https://fxbgpride.org/event/pride-dance-class-with-company-360-free/
LOCATION:Company Three Sixty\, 314 Forbes St VA 22401\, Fredericksburg\, VA\, 22401\, United States
CATEGORIES:Educational,Health and Fitness,Social Support
ATTACH;FMTTYPE=image/png:https://fxbgpride.org/wp-content/uploads/2023/07/Company-360-Dance-Night.png
ORGANIZER;CN="Fredericksburg Pride":MAILTO:fxbgpride@gmail.com
END:VEVENT
BEGIN:VEVENT
DTSTART;TZID=America/New_York:20230727T183000
DTEND;TZID=America/New_York:20230727T203000
DTSTAMP:20260421T162642
CREATED:20230620T164544Z
LAST-MODIFIED:20230713T164707Z
UID:10000129-1690482600-1690489800@fxbgpride.org
SUMMARY:BIPOC Dinner at Foode
DESCRIPTION:BIPOC S2LGBTQIA+ Dinner\n\nThis social support event is for ALL BIPOC – 18+ belonging in the S2LGBTQIA+ community.\n\nBIPOC Stands for Black\, Indigenous\, Person / People of color.\n\nThis program meets on the last Thursday of the month – monthly location subject to change due to that nights activity!\nFoode FXBG Menu: https://www.foodefredericksburg.com/menu\n\n\nVegetarian and limited vegan options available.\n\n\nDate: Thursday\, July 27th\nTime: 6:30-8:30\nLocation: Foode\, 900 Princess Anne St. Fredericksburg\, VA 22401\n\n\nCost to attend: Cost of meal – NO purchase necessary to attend\n\nReservation under Fredericksburg Pride\n\n\n*Please note this is not a Foode Sponsored event*\n\nAccessibility: Foode IS wheelchair accessible. Please call them for wheelchair access directions: (540) 479-1370  Event will be mostly seating/indoors. Masks are not required for those fully vaxxed + boosted and encouraged for those who are not. Fredericksburg Pride is happy to accommodate American Sign Language interpreting services if needed – please request this within two weeks of the event by emailing us at fredericksburgpride@gmail.com so that we may have adequate time to schedule an interpreter on site.\n\nAlt Photo Text: Three sections – tiny blue column\, large teal to blue column with text\, rainbow column. IMAGES: FXBG PRIDE Logo + Cream circle with SEE YOU THERE text and a rainbow heart. Text states: BIPOC MEETUP\, Thursday July 27th\, 6:30-8:30PM\, Foode\, 900 Princess Anne St\, Fredericksburg\, VA 22401
URL:https://fxbgpride.org/event/bipoc-meetup-foode/
LOCATION:Foode\, 900 Princess Anne St.\, Fredericksburg\, VA\, 22401\, United States
CATEGORIES:BIPOC Program,Social Support
ATTACH;FMTTYPE=image/png:https://fxbgpride.org/wp-content/uploads/2023/06/quote-15.png
ORGANIZER;CN="Fredericksburg Pride":MAILTO:fxbgpride@gmail.com
END:VEVENT
BEGIN:VEVENT
DTSTART;TZID=America/New_York:20230730T110000
DTEND;TZID=America/New_York:20230730T170000
DTSTAMP:20260421T162642
CREATED:20230616T205406Z
LAST-MODIFIED:20230627T125302Z
UID:10000007-1690714800-1690736400@fxbgpride.org
SUMMARY:Fredericksburg Pride 2023
DESCRIPTION:Time & Location\n\n\nWhen: July 30\, 11:00 AM – 5:00 PM \nLocation: Old Mill Park – 2201 Caroline St\, Fredericksburg\, VA 22401\, USA \n\n\n\n\nAbout the Event\n\n\nWelcome all to Fredericksburg Pride Nonprofits THIRD FXBG PRIDE event! \nMusical Performances! Local Vendors! Local Organizations! Raffles! PRIDE! \n  \nA Few Booth Highlights: TO COME \nSchedule: TO COME \nMarch: Our March will start at Market Square! Meet at 10:00 – march will start approx. at 10:30 and head to the Pride Event Via Caroline Street! \nWe’d love to see you in your FXBG PRIDE shirts – found here: https://shop.spreadshirt.com/fxbg-pride/ \nWe welcome Beer Babes Drag to our event! Performance will begin at 3:30PM! BRING CASH FOR OUR PERFORMERS! \nSponsored By: Rene Rodriguez @salon730 @nestrealtyfredericksburg @dragonflyyogafred @drewfristoe \nAccessibility\, Parking and First Aid: \n*Entrance on Caroline Street has a steep ramp down. When viewing Old Mill Park from the road there is a ramp to the left for wheelchairs. The parking lot is gravel and the park is grassed. There are several covered shelters that can be sat at. *All booths/tents are to have a clear\, clean space with standard table height accessible to all. ASL Interpreters provided for Speeches and Scheduled Musical Performances \n* Public Event Parking: For the event at Old Mill Park you may park where applicable in designated spots – except for permit/private parking. Public Lots – Barton Street – public parking (off William and Barton) Sophia Street and Parking garage on Wolfe St. Uber – Lyft – Yellow Taxicab Service – (540) 429-9350 Global Cab VA- (540) 657-2227 \n*March Accessibility: March will start at Market Square and have a downhill walk on William Street as we head towards Caroline St. down towards Old Mill Park. ASL interpreters will be on site for speeches. \n*March Parking: Fredericksburg VRE Parking Lot B is available to the public as well as City Dock Parking. FXBG PRIDE\, Fredericksburg Pride and there of are not responsible for parking\, parking fees or any costs associated with attendance of “FXBG PRIDE” event(s). We ask to try to park outside of City Dock for the march and at Old Mill Park for the festival. \n*Disability Parking: There (9) handicap spots in the Old Mill Parking Lot. FXBG Pride will be adding (20) additional spots day of our event for a total of (29). We will not be taking reservation for spots\, they are first come first taken. \n* Fredericksburg Rescue Squad will be on site with an ambulance crew \n*Code of Conduct and Participation Guidelines By entering our event premises\, you agree to our event participation guidelines which include creating a space where our community can celebrate regardless of differences or disagreements. All participants whether a citizen\, vendor\, volunteer\, paid staff or other are treated with courtesy and respect. By entering our event premises\, you agree to our the Dress Code regulated by the City of Fredericksburg. “A person who intentionally makes an obscene display or exposure of his person or the private parts there of in any public place or in any place where others are present or procures another to so expose himself shall be guilty of a class 1 misdemeanor. No person shall be deemed to be in violation of this section for breastfeeding a child in any public place or any place where others are present.” When you enter a Fredericksburg Pride (FXBG Pride) event or program\, you enter an area where photography\, audio\, and video recording may occur. By entering the event premises\, you consent to interview(s)\, photography\, audio recording\, video recording and its/their release\, publication\, exhibition\, or reproduction to be used for news\, web casts\, promotional purposes\, telecasts\, advertising\, inclusion on websites\, social media\, or any other purpose by FXBG Pride and its affiliates and representatives. Images\, photos and/or videos may be used to promote similar FXBG Pride events in the future\, highlight the event and exhibit the capabilities of FXBG Pride. You release FXBG Pride\, its officers and employees\, and each and all persons involved from any liability connected with the taking\, recording\, digitizing\, or publication and use of interviews\, photographs\, computer images\, video and/or or sound recordings. Privacy of the participants at Fredericksburg Pride & FXBG PRIDE is respected\, and photography / videography of individuals at the event may be limited by the individuals denial of a request for a photograph / videography / interview. We ask that individuals who prefer not to be in photograph / videos avoid view of the lens. We understand this may be hard in some instances as large group photos may be taken in an effort to show size of event or the capabilities of FXBG PRIDE. Within a month following the event an individual may request a photo of said individual to be blurred of their face for privacy. Other considerations may be considered per request – FXBG PRIDE and Fredericksburg Pride affiliates have the right to deny requests prior / after to event\, with respect. Inappropriate photography/videography that\, in the sole opinion of Fredericksburg Pride\, would reflect in a derogatory manner on the Committee\, the event or its participants\, is prohibited. Offensive or overly aggressive pursuit of photographs is not permitted. By entering the event premises\, you waive all rights you may have to any claims for payment or royalties in connection with any use\, exhibition\, streaming\, web casting\, televising\, or other publication of these materials\, regardless of the purpose or sponsoring of such use\, exhibiting\, broadcasting\, web casting\, or other publication irrespective of whether a fee for admission or sponsorship is charged. You also waive any right to inspect or approve any photo\, video\, or audio recording taken by FXBG Pride or the person or entity designated to do so by FXBG Pride. You have been fully informed of your consent\, waiver of liability\, and release before entering the event \nEarly Vendor Registration can sign up here: \nhttps://docs.google.com/…/1cfSl9InT0IxrkLEiFN8ZBkyEZiAG… \nEarly Performance Request can sign up here: https://docs.google.com/…/1WT2t7kRZx-4jNLBvLr1S5qS8… \nSponsor Sign Up Sheet: https://docs.google.com/…/1wX5SlzrPiva2xqFd9CUgevJcsyod… \nNO posts regarding open vendor spots / payment for spots or other will be posted outside of our account! \nPlease report if you receive any comments\, emails\, phone calls from anyone other than Fredericksburg Pride (otherwise known as FXBG Pride) regarding these matters. \nAny personal emails will come directly from info@fxbgpride.org or mhenry.fxbgpride@gmail.com
URL:https://fxbgpride.org/event/fredericksburg-pride-2023/
LOCATION:Old Mill Park\, 2201 Caroline St\, Fredericksburg\, VA\, 22401\, United States
CATEGORIES:Entertainment,Fundraiser,Social Support
ATTACH;FMTTYPE=image/webp:https://fxbgpride.org/wp-content/uploads/2023/06/Fredericksburg-Pride-2023.webp
ORGANIZER;CN="Fredericksburg Pride":MAILTO:fxbgpride@gmail.com
END:VEVENT
BEGIN:VEVENT
DTSTART;TZID=America/New_York:20230731T183000
DTEND;TZID=America/New_York:20230731T203000
DTSTAMP:20260421T162642
CREATED:20230713T154428Z
LAST-MODIFIED:20230713T154508Z
UID:10000310-1690828200-1690835400@fxbgpride.org
SUMMARY:All Womens Dinner @ Agave
DESCRIPTION:All Womens Group – Dinner at Agave\n\nThis social support event is for ALL Women – 18+ belonging in the S2LGBTQIA+ community.\n\nThis program meets on the last Monday of the month – monthly location subject to change due to that nights activity!\n\nAgave  Restaurant Menu: https://www.agavedowntown.com/menu\n\nCost: Cost of meal – NO purchase necessary to attend\n\n*Please note this is not an Agave Sponsored event*\n\nAccessibility: Agave is a wheelchair accessible restaurant from its entrance on Sophia St. with interior tables / chairs. Event will be mostly seating/indoor. Masks are not required for those fully vaxxed + boosted and encouraged for those who are not. Fredericksburg Pride is happy to accommodate American Sign Language interpreting services if needed – please request this within two weeks of the event by emailing us at fredericksburgpride@gmail.com so that we may have adequate time to schedule an interpreter on site.\n\nAlt Photo Text: Three sections – tiny purple column\, large blue column with text\, rainbow column. IMAGES: FXBG PRIDE Logo + Cream circle with SEE YOU THERE text and a rainbow heart. Text states: ALL WOMENS DINNER\, July 31st\, 6:30-8:30PM\, Agave\, 101 William St\, Fredericksburg\, VA 22401
URL:https://fxbgpride.org/event/all-womens-dinner-2/
LOCATION:VA
CATEGORIES:All Womens Program,Social Support
ATTACH;FMTTYPE=image/png:https://fxbgpride.org/wp-content/uploads/2023/06/July-All-Womens-Dinner.png
ORGANIZER;CN="Fredericksburg Pride":MAILTO:fxbgpride@gmail.com
END:VEVENT
END:VCALENDAR