BEGIN:VCALENDAR
VERSION:2.0
PRODID:-//Fredericksburg Pride - ECPv6.15.20//NONSGML v1.0//EN
CALSCALE:GREGORIAN
METHOD:PUBLISH
X-WR-CALNAME:Fredericksburg Pride
X-ORIGINAL-URL:https://fxbgpride.org
X-WR-CALDESC:Events for Fredericksburg Pride
REFRESH-INTERVAL;VALUE=DURATION:PT1H
X-Robots-Tag:noindex
X-PUBLISHED-TTL:PT1H
BEGIN:VTIMEZONE
TZID:America/New_York
BEGIN:DAYLIGHT
TZOFFSETFROM:-0500
TZOFFSETTO:-0400
TZNAME:EDT
DTSTART:20240310T070000
END:DAYLIGHT
BEGIN:STANDARD
TZOFFSETFROM:-0400
TZOFFSETTO:-0500
TZNAME:EST
DTSTART:20241103T060000
END:STANDARD
BEGIN:DAYLIGHT
TZOFFSETFROM:-0500
TZOFFSETTO:-0400
TZNAME:EDT
DTSTART:20250309T070000
END:DAYLIGHT
BEGIN:STANDARD
TZOFFSETFROM:-0400
TZOFFSETTO:-0500
TZNAME:EST
DTSTART:20251102T060000
END:STANDARD
BEGIN:DAYLIGHT
TZOFFSETFROM:-0500
TZOFFSETTO:-0400
TZNAME:EDT
DTSTART:20260308T070000
END:DAYLIGHT
BEGIN:STANDARD
TZOFFSETFROM:-0400
TZOFFSETTO:-0500
TZNAME:EST
DTSTART:20261101T060000
END:STANDARD
END:VTIMEZONE
BEGIN:VEVENT
DTSTART;TZID=America/New_York:20251216T183000
DTEND;TZID=America/New_York:20251216T193000
DTSTAMP:20260419T100016
CREATED:20251218T150055Z
LAST-MODIFIED:20251218T150056Z
UID:10000501-1765909800-1765913400@fxbgpride.org
SUMMARY:LGBTQIA+ Youth Book Club - Third Tuesdays!
DESCRIPTION:LGBTQ+ and allies TEEN book group hosted by Central Rappahannock Regional Library and FXBG PRIDE\n\n\nDecember 2025: High Fantasy \nBook Choices (Choose one or more) \n\nClockwork Curandera 1: The Witch Owl Parliament by David Bowles and Raúl the Third\nThe Sunbearer Trials by Aiden Thomas\nEvil-Ish by Kennedy Tarrell\nA Song for You and I by Kay O’Neill\n\n\n\nSuitable for grades 6-12Type: Book GroupLanguage: EnglishLocation: Rappahannock Regional Library – Fredericksburg Branch – 1201 Caroline St. – Second Floor.\nDate: Event is typically held on the third Tuesday of every month @ 6:30pm.\n\nAccessibility: Rappahannock Regional Library is wheelchair accessible with an elevator to multiple floors. Please contact Rappahannock Regional Library for virtual access to this event: owen.cobey@crrl.org
URL:https://fxbgpride.org/event/lgbtqia-youth-book-club-third-tuesdays-2/
LOCATION:Central Rappahannock Regional Library\, 1201 Carline Street\, Fredericksburg\, VA\, 22401\, United States
CATEGORIES:Book Club,Book Reading,Social Support,Youth
ATTACH;FMTTYPE=image/png:https://fxbgpride.org/wp-content/uploads/2025/05/teen-book-group-1.png
ORGANIZER;CN="Fredericksburg Pride":MAILTO:fxbgpride@gmail.com
END:VEVENT
END:VCALENDAR