BEGIN:VCALENDAR
VERSION:2.0
PRODID:-//Fredericksburg Pride - ECPv6.15.20//NONSGML v1.0//EN
CALSCALE:GREGORIAN
METHOD:PUBLISH
X-WR-CALNAME:Fredericksburg Pride
X-ORIGINAL-URL:https://fxbgpride.org
X-WR-CALDESC:Events for Fredericksburg Pride
REFRESH-INTERVAL;VALUE=DURATION:PT1H
X-Robots-Tag:noindex
X-PUBLISHED-TTL:PT1H
BEGIN:VTIMEZONE
TZID:America/New_York
BEGIN:DAYLIGHT
TZOFFSETFROM:-0500
TZOFFSETTO:-0400
TZNAME:EDT
DTSTART:20240310T070000
END:DAYLIGHT
BEGIN:STANDARD
TZOFFSETFROM:-0400
TZOFFSETTO:-0500
TZNAME:EST
DTSTART:20241103T060000
END:STANDARD
BEGIN:DAYLIGHT
TZOFFSETFROM:-0500
TZOFFSETTO:-0400
TZNAME:EDT
DTSTART:20250309T070000
END:DAYLIGHT
BEGIN:STANDARD
TZOFFSETFROM:-0400
TZOFFSETTO:-0500
TZNAME:EST
DTSTART:20251102T060000
END:STANDARD
BEGIN:DAYLIGHT
TZOFFSETFROM:-0500
TZOFFSETTO:-0400
TZNAME:EDT
DTSTART:20260308T070000
END:DAYLIGHT
BEGIN:STANDARD
TZOFFSETFROM:-0400
TZOFFSETTO:-0500
TZNAME:EST
DTSTART:20261101T060000
END:STANDARD
END:VTIMEZONE
BEGIN:VEVENT
DTSTART;TZID=America/New_York:20250917T183000
DTEND;TZID=America/New_York:20250917T193000
DTSTAMP:20260419T151226
CREATED:20250813T173846Z
LAST-MODIFIED:20250813T173846Z
UID:10000654-1758133800-1758137400@fxbgpride.org
SUMMARY:Rainbow Reads: The Jasmine Throne by Tasha Suri
DESCRIPTION:Rainbow Reads: The Jasmine Throne by Tasha Suri \nAn LGBTQ+ and allies book group. In partnership with FXBG Pride and Central Rappahannock Regional Library \nSuitable for: Adults \nAlt Photo Description: A background of a blurred book with rainbow exploding out of it. Text reads: Rainbow Reads\, Adult Book Group\, Sept 17\, 6:30-7:30\, Central Rappahannock Regional Library on Caroline St.
URL:https://fxbgpride.org/event/rainbow-reads-the-jasmine-throne-by-tasha-suri/
LOCATION:Central Rappahannock Regional Library\, 1201 Carline Street\, Fredericksburg\, VA\, 22401\, United States
CATEGORIES:Book Club,Social Support
ATTACH;FMTTYPE=image/png:https://fxbgpride.org/wp-content/uploads/2025/08/Rainbow-Reads-2.png
ORGANIZER;CN="Fredericksburg Pride":MAILTO:fxbgpride@gmail.com
END:VEVENT
END:VCALENDAR