BEGIN:VCALENDAR
VERSION:2.0
PRODID:-//Fredericksburg Pride - ECPv6.15.20//NONSGML v1.0//EN
CALSCALE:GREGORIAN
METHOD:PUBLISH
X-ORIGINAL-URL:https://fxbgpride.org
X-WR-CALDESC:Events for Fredericksburg Pride
REFRESH-INTERVAL;VALUE=DURATION:PT1H
X-Robots-Tag:noindex
X-PUBLISHED-TTL:PT1H
BEGIN:VTIMEZONE
TZID:America/New_York
BEGIN:DAYLIGHT
TZOFFSETFROM:-0500
TZOFFSETTO:-0400
TZNAME:EDT
DTSTART:20230312T070000
END:DAYLIGHT
BEGIN:STANDARD
TZOFFSETFROM:-0400
TZOFFSETTO:-0500
TZNAME:EST
DTSTART:20231105T060000
END:STANDARD
BEGIN:DAYLIGHT
TZOFFSETFROM:-0500
TZOFFSETTO:-0400
TZNAME:EDT
DTSTART:20240310T070000
END:DAYLIGHT
BEGIN:STANDARD
TZOFFSETFROM:-0400
TZOFFSETTO:-0500
TZNAME:EST
DTSTART:20241103T060000
END:STANDARD
BEGIN:DAYLIGHT
TZOFFSETFROM:-0500
TZOFFSETTO:-0400
TZNAME:EDT
DTSTART:20250309T070000
END:DAYLIGHT
BEGIN:STANDARD
TZOFFSETFROM:-0400
TZOFFSETTO:-0500
TZNAME:EST
DTSTART:20251102T060000
END:STANDARD
BEGIN:DAYLIGHT
TZOFFSETFROM:-0500
TZOFFSETTO:-0400
TZNAME:EDT
DTSTART:20260308T070000
END:DAYLIGHT
BEGIN:STANDARD
TZOFFSETFROM:-0400
TZOFFSETTO:-0500
TZNAME:EST
DTSTART:20261101T060000
END:STANDARD
END:VTIMEZONE
BEGIN:VEVENT
DTSTART;TZID=America/New_York:20250331T170000
DTEND;TZID=America/New_York:20250331T210000
DTSTAMP:20260419T164229
CREATED:20250312T020007Z
LAST-MODIFIED:20250312T020007Z
UID:10000427-1743440400-1743454800@fxbgpride.org
SUMMARY:Fundraiser Dinner for Trans Day of Visibility at Mason Dixon
DESCRIPTION:Mason Dixon is hosting a fundraiser on Give Back Monday on March 31st from 5-9pm for Forging a Community Transgender Support. \n\n\n\n\nEvery year on March 31\, people around the world recognize Transgender Day of Visibility (TDOV) to raise awareness about transgender individuals. It’s a day to celebrate the lives and achievements of trans people while also highlighting the challenges they face\, including poverty\, discrimination\, and violence. \n\nAlt Photo Text: a TDOV Fundraiser poster with trans flag colors (pink\, blue and white).
URL:https://fxbgpride.org/event/fundraiser-dinner-for-trans-day-of-visibility-at-mason-dixon/
LOCATION:Mason DIxon Cafe\, 2100 Princess Anne St\, Fredericksburg\, VA\, 22401\, United States
CATEGORIES:Community Event,Fundraiser
ATTACH;FMTTYPE=image/png:https://fxbgpride.org/wp-content/uploads/2025/03/TDOV.png
ORGANIZER;CN="Fredericksburg Pride":MAILTO:fxbgpride@gmail.com
END:VEVENT
BEGIN:VEVENT
DTSTART;TZID=America/New_York:20250312T180000
DTEND;TZID=America/New_York:20250312T190000
DTSTAMP:20260419T164229
CREATED:20250223T000342Z
LAST-MODIFIED:20250223T000342Z
UID:10000426-1741802400-1741806000@fxbgpride.org
SUMMARY:LGBTQIA+ Self Defense Class- FREE
DESCRIPTION:Join us at the Pride Center of FXBG For a FREE Self Defense class hosted by FXBG Pride and RVA Karate Dojo \nAge Restriction: 16+ \nCost: Free \nLocation: 4343 Plank Road Suite 100\, Fredericksburg\, VA 22407 \nMax Capacity: 16 People \nRSVP by emailing us at fredericksburgpride@gmail.com \nEvent sponsored by Fredericksburg Pride \n**What to wear: loose fitting work out clothes \n**What to bring: a bottle of water \n**What to expect: A free\, 101 course that does not include ground work – but is focused on natural body movements\, where technique trumps strength\, making it accessible and effective for everyone. \nThe event is free\, but if you would like to donate to FXBG Pride to help us offer events like this feel free to donate to: https://fxbgpride.org/contact-fxbg-pride-donate/ \nEvent Accessibility: Event will be mostly standing\, accommodations made for those needing to sit – please let us know ahead of time if a chair / wheel chair will be present so that we can appropriately set the room. The Pride Center is wheelchair accessible with a water fountain and bathroom. Entrance is in the back from the “Wawa side”. \nAlt Photo Description: A piece of rainbow paper background and the event description as listed above.
URL:https://fxbgpride.org/event/lgbtqia-self-defense-class-free-2/
LOCATION:FAHASS PRIDE CENTER\, 415 Elm Street\, Fredericksburg\, VA\, 22401\, United States
CATEGORIES:Community Event,Community Outreach,Educational,Health and Fitness
ATTACH;FMTTYPE=image/png:https://fxbgpride.org/wp-content/uploads/2025/02/RVA-Self-Defense-Class-2.png
ORGANIZER;CN="Fredericksburg Pride":MAILTO:fxbgpride@gmail.com
END:VEVENT
BEGIN:VEVENT
DTSTART;TZID=America/New_York:20250305T180000
DTEND;TZID=America/New_York:20250305T190000
DTSTAMP:20260419T164229
CREATED:20250205T211231Z
LAST-MODIFIED:20250212T174809Z
UID:10000411-1741197600-1741201200@fxbgpride.org
SUMMARY:LGBTQIA+ Self Defense Class- FREE (SOLD OUT)
DESCRIPTION:Join us at the Pride Center of FXBG For a FREE Self Defense class hosted by FXBG Pride and RVA Karate Dojo \nAge Restriction: 16+ \nCost: Free \nLocation: 4343 Plank Road Suite 100\, Fredericksburg\, VA 22407 \nMax Capacity: 16 People \nRSVP (SOLD OUT!) \nEvent sponsored by Fredericksburg Pride \n**What to wear: loose fitting work out clothes \n**What to bring: a bottle of water \n**What to expect: A free\, 101 course that does not include ground work – but is focused on natural body movements\, where technique trumps strength\, making it accessible and effective for everyone. \nThe event is free\, but if you would like to donate to FXBG Pride to help us offer events like this feel free to donate to: https://fxbgpride.org/contact-fxbg-pride-donate/ \nEvent Accessibility: Event will be mostly standing\, accommodations made for those needing to sit – please let us know ahead of time if a chair / wheel chair will be present so that we can appropriately set the room. The Pride Center is wheelchair accessible with a water fountain and bathroom. Entrance is in the back from the “Wawa side”. \nAlt Photo Description: A piece of rainbow paper background and the event description as listed above.
URL:https://fxbgpride.org/event/lgbtqia-self-defense-class-free/
LOCATION:FAHASS PRIDE CENTER\, 415 Elm Street\, Fredericksburg\, VA\, 22401\, United States
CATEGORIES:Community Event,Community Outreach,Educational,Health and Fitness
ATTACH;FMTTYPE=image/png:https://fxbgpride.org/wp-content/uploads/2025/02/RVA-Self-Defense-Class-1.png
ORGANIZER;CN="Fredericksburg Pride":MAILTO:fxbgpride@gmail.com
END:VEVENT
BEGIN:VEVENT
DTSTART;TZID=America/New_York:20250227T180000
DTEND;TZID=America/New_York:20250227T193000
DTSTAMP:20260419T164229
CREATED:20250205T215207Z
LAST-MODIFIED:20250205T220155Z
UID:10000412-1740679200-1740684600@fxbgpride.org
SUMMARY:Dear Younger Me - A FREE Wooden Notebook Cover Making Event
DESCRIPTION:Create wooden notebook covers\, learn to journal/scrapbook\, and talk to your younger self about your LGBTQ+ or other personal story. In partnership with CRRL + FXBG Pride. \nCost: FREE\nDate: Feb 27th \nTime: 6-7:30pm \nLocation: 1616 Princess Anne Street Fredericksburg Virginia 22401 \nAccessibility: Event is for all ages\, space is wheelchair accessible. Event may cause louder noises while working with the wood. Event will be inside. Location has bathrooms. \nAlt Photo Description: Poster for event with event details listed as above with an image of a wooden notebook cover – the image on the notebook is a set of hands hugging a heart and text burnt into it saying : Dear Younger Me.
URL:https://fxbgpride.org/event/dear-younger-me-a-free-wooden-notebook-cover-making-event/
LOCATION:Idea Space Fredericksburg\, 1616 Princess Anne Street Fredericksburg Virginia 22401
CATEGORIES:Community Event,Community Outreach
ATTACH;FMTTYPE=image/png:https://fxbgpride.org/wp-content/uploads/2025/02/Dear-Younger-Me.png
ORGANIZER;CN="Fredericksburg Pride":MAILTO:fxbgpride@gmail.com
END:VEVENT
BEGIN:VEVENT
DTSTART;TZID=America/New_York:20250221T180000
DTEND;TZID=America/New_York:20250221T200000
DTSTAMP:20260419T164229
CREATED:20250205T201033Z
LAST-MODIFIED:20250205T201605Z
UID:10000410-1740160800-1740168000@fxbgpride.org
SUMMARY:Trans Story Telling Event
DESCRIPTION:Come join @acluva\, @fxbgpride\, @ogsfxbg\, and @fahassfxbg for a celebration of TRANS JOY in Fredericksburg!  We’ll be there to share resources and be in solidarity with the community that supports our trans and nonbinary neighbors. \n@acluva will be giving out FREE copies of Virginia’s first-ever trans joy zine\, featuring stories of trans & nonbinary Virginians and illustrated by queer\, trans\, Latinx\, Black\, and Filipino-American artists.  \nRSVP at bit.ly/trans-joy-fxbg or at the link in @acluva’s bio. \nOriginal Grinds – 615 Caroline St\, Fredericksburg\, VA 22401 \nCost: FREE to attend \nAccessibility: The event will be held inside\, masks recommended for those unvaccinated\, the event will be up about 6 stairs up the main level. The bathrooms are located about 6 stairs down the main level. \nAlt Photo Description: A poster with a blue background and polaroid’s of cartoon trans persons – showcasing that trans does not “look” like a specific person or gender. Text states (in pink) Trans Joy (in blue) In FXBG. (In black) Friday\, February 21st from 6-8pm Original Grinds Coffee Shop. Come be in community with us in Fredericksburg to celebrate trans joy and get your copy of (in pink) Virginias First Ever Trans Joy Zine\, (In black) created by trans and nonbinary Virginians. Learn more at acluva.org/spreadtransjoy\nACLU\, FXBG PRIDE\, OGs\, and FAHASS logo are below the text with a “scan to RSVP” QR code.
URL:https://fxbgpride.org/event/trans-story-telling-event/
LOCATION:Original Grinds FXBG\, 615 Caroline St\, Fredericksburg\, VA\, 22401\, United States
CATEGORIES:Community Event,Community Outreach
ATTACH;FMTTYPE=image/png:https://fxbgpride.org/wp-content/uploads/2025/02/Trans-Joy-Zine_Fredericksburg_Digital-Flyer_WithPartners.png
ORGANIZER;CN="Fredericksburg Pride":MAILTO:fxbgpride@gmail.com
END:VEVENT
BEGIN:VEVENT
DTSTART;TZID=America/New_York:20250218T183000
DTEND;TZID=America/New_York:20250218T203000
DTSTAMP:20260419T164229
CREATED:20250124T002040Z
LAST-MODIFIED:20250124T002040Z
UID:10000407-1739903400-1739910600@fxbgpride.org
SUMMARY:LGBTQ+ Teen Book Group - Hearts and Aces
DESCRIPTION:Read one (or more!) books from our monthly selections\, then join us for a discussion. In partnership with Fredericksburg Pride. New members welcome!\nLocation: Fredericksburg branch and online at https://meet.google.com/yef-jkqx-uqx
URL:https://fxbgpride.org/event/lgbtq-teen-book-group-hearts-and-aces/
LOCATION:Central Rappahannock Regional Library\, 1201 Carline Street\, Fredericksburg\, VA\, 22401\, United States
CATEGORIES:Book Club,Community Event,Social Support,Youth
ORGANIZER;CN="Fredericksburg Pride":MAILTO:fxbgpride@gmail.com
END:VEVENT
BEGIN:VEVENT
DTSTART;TZID=America/New_York:20250125T180000
DTEND;TZID=America/New_York:20250125T220000
DTSTAMP:20260419T164229
CREATED:20250114T234816Z
LAST-MODIFIED:20250114T234816Z
UID:10000404-1737828000-1737842400@fxbgpride.org
SUMMARY:Central VA Winter Prom
DESCRIPTION:Central Virginia Pride (a collaboration of @fxbgpride @culpeper.pride @warrentonpride @madsafeva and @fauquierpride) are hosting a 2nd Chance Prom for those who didn’t get to “Sparkle and Shine” their first time this winter. Come out and dance the night away while meeting new friends in the Piedmont Area!\n\nJanuary 25\, 2025Rixey Manor 6-10pm 20.0021+\n*Light refreshments will be available*\nTicket are on sale now!!\n\nProceeds benefit a future LGBTQIA+ Youth Prom!\nhttps://www.eventbrite.com/…/lgbtq-2nd-chance-prom…\n\nAccessibility: Rixey Manor is Wheelchair accessible. Please limit colognes/perfumes. Some seating will be available.\n\nAlt Photo Text: a Pink sparkly flyer for the first Central VA Pride winter prom (Central Va Pride is combined of FXBG Pride\, Fauquier Pride\, Warrenton Pride\, Culpeper Pride and Madsafe). The event details are 21+\, January 25th at Rixey Manor (9155 Pleasant Hill Drive\, Roseville VA 22737) from 6-10pm. The theme is Sparkle and Shine\, all proceeds benefit a future LGBTQIA+ youth prom.
URL:https://fxbgpride.org/event/central-va-winter-prom/
LOCATION:Rixey Manor\, 9155 Pleasant Hill Drive\, Rixeyville\, VA\, 22737\, United States
CATEGORIES:Community Event,Community Outreach
ATTACH;FMTTYPE=image/jpeg:https://fxbgpride.org/wp-content/uploads/2025/01/winter-prom.jpg
ORGANIZER;CN="Fredericksburg Pride":MAILTO:fxbgpride@gmail.com
END:VEVENT
BEGIN:VEVENT
DTSTART;TZID=America/New_York:20241201T120000
DTEND;TZID=America/New_York:20241201T170000
DTSTAMP:20260419T164229
CREATED:20241002T160528Z
LAST-MODIFIED:20241002T160528Z
UID:10000400-1733054400-1733072400@fxbgpride.org
SUMMARY:Queermas: Mini Vendor Market
DESCRIPTION:Fredericksburg Pride will be hosting our first ever Queermas: a Mini Vendor Market on December 1st from 12-5pm at Hexes and Healing!\n\n\n \n\n\n* Hot Chocolate \n\n\n* Mini Gingerbread House Making\n\n\n* Baked Goods\n\n\n* Vendors \n\n\n* Queer Community \n\n\n \n\n\nLet’s celebrate our local queer and allied small businesses\, celebrate the upcoming holidays and drink hot chocolate from @ogsfxbg\n\n\n \n\n\n*FREE ADMISSION* \n\n\n \n\n\nIf you are interested in becoming a vendor at this event please email us at mhenry.fxbgpride@gmail.com \n\n\n \n\n\nPhoto Text: Flyer with rainbow themed Christmas items\, dark pink background. Text states: You’re Invited\, Queermas Mini Market\, December 1st\, 12:00-5:00PM\, Handmade products and food\, hexes and healing\, 2374 Plank Road\, Fredericksburg\, VA 22401. The Hexes and Healing Logo (cauldron with green liquid\, fire underneath and green text (Hexes and Healing)) and the FXBG Pride logo are in the top corners. \n\n\n 
URL:https://fxbgpride.org/event/queermas-mini-vendor-market/
LOCATION:Hexes and Healing\, 2374 Plank Rd\, Fredericksburg\, VA 22401
CATEGORIES:Community Event
ATTACH;FMTTYPE=image/png:https://fxbgpride.org/wp-content/uploads/2024/10/queermas-2.png
ORGANIZER;CN="Fredericksburg Pride":MAILTO:fxbgpride@gmail.com
END:VEVENT
BEGIN:VEVENT
DTSTART;TZID=America/New_York:20240823T190000
DTEND;TZID=America/New_York:20240823T213000
DTSTAMP:20260419T164229
CREATED:20240810T023642Z
LAST-MODIFIED:20240810T023642Z
UID:10000393-1724439600-1724448600@fxbgpride.org
SUMMARY:Karaoke with Culpeper Pride (FREE)
DESCRIPTION:Fredericksburg Pride and Culpeper Pride are teaming up for a community event with both of our organizations! \nJoin us Friday\, August 23rd at 1781 Brewery for a free Karaoke Night! \n1781 Brewery: 11109 Plank Road\, Spotsylvania Courthouse\, VA \nCost: Event Cost is Free\, Meal and Drink are not included \nhttps://www.1781brewing.com/ \nAccessibility: 1781 is located at the top of a small inclined hill. Entrance from the parking lot is gravel. We will be located on the Brewery side. Seating is limited but if needed we can pull chairs. \nAlt Photo Text: Neon Sign Image of two crossed mics. Text states: Karaoke\, Free\, Friday August 23rd 7-9:30PM\, 1781 Brewery\, 11109 Spotsylvania Courthouse \nCulpeper Pride image is in the top left corner\, FXBG PRIDE logo is in the top right and in the bottom corners is a neon star
URL:https://fxbgpride.org/event/karaoke-with-culpeper-pride-free/
LOCATION:1781 Brewery\, 11109\, Spotsylvania Courthouse\, VA\, 22553\, United States
CATEGORIES:Community Event,Community Outreach,Social Support
ATTACH;FMTTYPE=image/png:https://fxbgpride.org/wp-content/uploads/2024/08/Karaoke-with-CPride.png
ORGANIZER;CN="Fredericksburg Pride":MAILTO:fxbgpride@gmail.com
END:VEVENT
END:VCALENDAR