BEGIN:VCALENDAR
VERSION:2.0
PRODID:-//Fredericksburg Pride - ECPv6.15.20//NONSGML v1.0//EN
CALSCALE:GREGORIAN
METHOD:PUBLISH
X-ORIGINAL-URL:https://fxbgpride.org
X-WR-CALDESC:Events for Fredericksburg Pride
REFRESH-INTERVAL;VALUE=DURATION:PT1H
X-Robots-Tag:noindex
X-PUBLISHED-TTL:PT1H
BEGIN:VTIMEZONE
TZID:America/New_York
BEGIN:DAYLIGHT
TZOFFSETFROM:-0500
TZOFFSETTO:-0400
TZNAME:EDT
DTSTART:20250309T070000
END:DAYLIGHT
BEGIN:STANDARD
TZOFFSETFROM:-0400
TZOFFSETTO:-0500
TZNAME:EST
DTSTART:20251102T060000
END:STANDARD
BEGIN:DAYLIGHT
TZOFFSETFROM:-0500
TZOFFSETTO:-0400
TZNAME:EDT
DTSTART:20260308T070000
END:DAYLIGHT
BEGIN:STANDARD
TZOFFSETFROM:-0400
TZOFFSETTO:-0500
TZNAME:EST
DTSTART:20261101T060000
END:STANDARD
BEGIN:DAYLIGHT
TZOFFSETFROM:-0500
TZOFFSETTO:-0400
TZNAME:EDT
DTSTART:20270314T070000
END:DAYLIGHT
BEGIN:STANDARD
TZOFFSETFROM:-0400
TZOFFSETTO:-0500
TZNAME:EST
DTSTART:20271107T060000
END:STANDARD
END:VTIMEZONE
BEGIN:VEVENT
DTSTART;TZID=America/New_York:20260629T183000
DTEND;TZID=America/New_York:20260629T203000
DTSTAMP:20260421T190458
CREATED:20251212T205102Z
LAST-MODIFIED:20251212T205102Z
UID:10000683-1782757800-1782765000@fxbgpride.org
SUMMARY:All Womxns Group - Post Pride Dinner at Alpine Chef
DESCRIPTION:ALL Womxns Group – Post Pride Dinner at Alpine Chef\n\nThis social support event is for ALL Womxn – 18+ belonging in the S2LGBTQIA+ community.\nThis program typically meets on the last Monday of the month –monthly location subject to change due to that nights activity!\n\nMonday\, June 29th6:30-8:30pm –  Alpine Chef – 200 Lafayette Blvd\, Fredericksburg VA 22401\n\n*Non-Alcoholic Sponsorship available with request – please email us at fxbgpride@gmail.com to discuss details.\n\n*Please note this is not an Alpine Chef sponsored event*\n\nAccessibility: Alpine Chef has indoor seating\, booths + chairs Wheelchair accessible. Masks are not required for those fully vaxxed + boosted and encouraged for those who are not. Fredericksburg Pride is happy to accommodate American Sign Language interpreting services if needed – please request this within two weeks of the event by emailing us at fredericksburgpride@gmail.com so that we may have adequate time to schedule an interpreter on site.\n\n\nAlt Photo Text: Pink pant background in the corners\, FXBG PRIDE logo centered up top. Text states: WOMXNS Group (WOMXNS is made up of pinks/purple picture’s of past events.)\, Calendar\, Clock and Location Ping Images with event details listed 
URL:https://fxbgpride.org/event/all-womxns-group-post-pride-dinner-at-alpine-chef/
LOCATION:The Alpine Chef\, 200 Lafayette Blvd\, Fredericksburg\, VA\, 22401\, United States
CATEGORIES:All Womens Program,Social Support
ATTACH;FMTTYPE=image/png:https://fxbgpride.org/wp-content/uploads/2025/12/June-Womxns-1.png
ORGANIZER;CN="Fredericksburg Pride":MAILTO:fxbgpride@gmail.com
END:VEVENT
END:VCALENDAR