BEGIN:VCALENDAR
VERSION:2.0
PRODID:-//Fredericksburg Pride - ECPv6.15.20//NONSGML v1.0//EN
CALSCALE:GREGORIAN
METHOD:PUBLISH
X-WR-CALNAME:Fredericksburg Pride
X-ORIGINAL-URL:https://fxbgpride.org
X-WR-CALDESC:Events for Fredericksburg Pride
REFRESH-INTERVAL;VALUE=DURATION:PT1H
X-Robots-Tag:noindex
X-PUBLISHED-TTL:PT1H
BEGIN:VTIMEZONE
TZID:America/New_York
BEGIN:DAYLIGHT
TZOFFSETFROM:-0500
TZOFFSETTO:-0400
TZNAME:EDT
DTSTART:20240310T070000
END:DAYLIGHT
BEGIN:STANDARD
TZOFFSETFROM:-0400
TZOFFSETTO:-0500
TZNAME:EST
DTSTART:20241103T060000
END:STANDARD
BEGIN:DAYLIGHT
TZOFFSETFROM:-0500
TZOFFSETTO:-0400
TZNAME:EDT
DTSTART:20250309T070000
END:DAYLIGHT
BEGIN:STANDARD
TZOFFSETFROM:-0400
TZOFFSETTO:-0500
TZNAME:EST
DTSTART:20251102T060000
END:STANDARD
BEGIN:DAYLIGHT
TZOFFSETFROM:-0500
TZOFFSETTO:-0400
TZNAME:EDT
DTSTART:20260308T070000
END:DAYLIGHT
BEGIN:STANDARD
TZOFFSETFROM:-0400
TZOFFSETTO:-0500
TZNAME:EST
DTSTART:20261101T060000
END:STANDARD
END:VTIMEZONE
BEGIN:VEVENT
DTSTART;TZID=America/New_York:20250616T170000
DTEND;TZID=America/New_York:20250616T210000
DTSTAMP:20260423T025743
CREATED:20250527T164432Z
LAST-MODIFIED:20250527T164432Z
UID:10000555-1750093200-1750107600@fxbgpride.org
SUMMARY:Give Back Night at Mason Dixon
DESCRIPTION:Mason Dixon is hosting a fundraiser on Give Back Night – Monday June 16th   from 5-9pm for Fredericksburg Pride – for Pride Month! \n\n\n\nOur mouth is watering looking at the menu! We can’t wait to chow down on some peanut butter french toast or a Jive Turkey Sandwich. Bring your sweetie\, grab a table and help MDC fundraise while eating a delicious dinner! \nMason Dixon Cafe Website: https://masondixoncafe.com/ \nMason Dixon Cafe Menu: https://masondixoncafe.com/order \n\nTHANK YOU MASON DIXON CAFE! \n\nAlt Photo Text: a poster for Give Back Night: Rainbow header and footer with Mason Dixon Cafe logo centered up top (logo is Mason Dixon Cafe in old typewriter text with an egg in between the words Mason and Dixon). Text states REALLY big: GIVE BACK NIGHT. (smaller text) – show this flyer to your server and 10% of your bill goes to (FXBG PRIDE LOGO)
URL:https://fxbgpride.org/event/give-back-night-at-mason-dixon/
LOCATION:Mason DIxon Cafe\, 2100 Princess Anne St\, Fredericksburg\, VA\, 22401\, United States
CATEGORIES:Community Event,Fundraiser
ATTACH;FMTTYPE=image/png:https://fxbgpride.org/wp-content/uploads/2025/05/PRIDEMASONFXBG6.png
ORGANIZER;CN="Fredericksburg Pride":MAILTO:fxbgpride@gmail.com
END:VEVENT
END:VCALENDAR