BEGIN:VCALENDAR
VERSION:2.0
PRODID:-//Fredericksburg Pride - ECPv6.15.20//NONSGML v1.0//EN
CALSCALE:GREGORIAN
METHOD:PUBLISH
X-WR-CALNAME:Fredericksburg Pride
X-ORIGINAL-URL:https://fxbgpride.org
X-WR-CALDESC:Events for Fredericksburg Pride
REFRESH-INTERVAL;VALUE=DURATION:PT1H
X-Robots-Tag:noindex
X-PUBLISHED-TTL:PT1H
BEGIN:VTIMEZONE
TZID:America/New_York
BEGIN:DAYLIGHT
TZOFFSETFROM:-0500
TZOFFSETTO:-0400
TZNAME:EDT
DTSTART:20240310T070000
END:DAYLIGHT
BEGIN:STANDARD
TZOFFSETFROM:-0400
TZOFFSETTO:-0500
TZNAME:EST
DTSTART:20241103T060000
END:STANDARD
BEGIN:DAYLIGHT
TZOFFSETFROM:-0500
TZOFFSETTO:-0400
TZNAME:EDT
DTSTART:20250309T070000
END:DAYLIGHT
BEGIN:STANDARD
TZOFFSETFROM:-0400
TZOFFSETTO:-0500
TZNAME:EST
DTSTART:20251102T060000
END:STANDARD
BEGIN:DAYLIGHT
TZOFFSETFROM:-0500
TZOFFSETTO:-0400
TZNAME:EDT
DTSTART:20260308T070000
END:DAYLIGHT
BEGIN:STANDARD
TZOFFSETFROM:-0400
TZOFFSETTO:-0500
TZNAME:EST
DTSTART:20261101T060000
END:STANDARD
END:VTIMEZONE
BEGIN:VEVENT
DTSTART;TZID=America/New_York:20250219T183000
DTEND;TZID=America/New_York:20250219T193000
DTSTAMP:20260420T115653
CREATED:20250124T002542Z
LAST-MODIFIED:20250124T002542Z
UID:10000408-1739989800-1739993400@fxbgpride.org
SUMMARY:Rainbow Reads: The Long Way to a Small\, Angry Planet by Becky Chambers
DESCRIPTION:Rainbow Reads: The Long Way to a Small\, Angry Planet by Becky Chambers \nAn LGBTQ+ and allies book group. In partnership with FXBG Pride and Central Rappahannock Regional Library \nSuitable for: Adults
URL:https://fxbgpride.org/event/rainbow-reads-the-long-way-to-a-small-angry-planet-by-becky-chambers/
LOCATION:Central Rappahannock Regional Library\, 1201 Carline Street\, Fredericksburg\, VA\, 22401\, United States
CATEGORIES:Book Club,Social Support
ORGANIZER;CN="Fredericksburg Pride":MAILTO:fxbgpride@gmail.com
END:VEVENT
END:VCALENDAR