BEGIN:VCALENDAR
VERSION:2.0
PRODID:-//Fredericksburg Pride - ECPv6.15.20//NONSGML v1.0//EN
CALSCALE:GREGORIAN
METHOD:PUBLISH
X-ORIGINAL-URL:https://fxbgpride.org
X-WR-CALDESC:Events for Fredericksburg Pride
REFRESH-INTERVAL;VALUE=DURATION:PT1H
X-Robots-Tag:noindex
X-PUBLISHED-TTL:PT1H
BEGIN:VTIMEZONE
TZID:America/New_York
BEGIN:DAYLIGHT
TZOFFSETFROM:-0500
TZOFFSETTO:-0400
TZNAME:EDT
DTSTART:20220313T070000
END:DAYLIGHT
BEGIN:STANDARD
TZOFFSETFROM:-0400
TZOFFSETTO:-0500
TZNAME:EST
DTSTART:20221106T060000
END:STANDARD
BEGIN:DAYLIGHT
TZOFFSETFROM:-0500
TZOFFSETTO:-0400
TZNAME:EDT
DTSTART:20230312T070000
END:DAYLIGHT
BEGIN:STANDARD
TZOFFSETFROM:-0400
TZOFFSETTO:-0500
TZNAME:EST
DTSTART:20231105T060000
END:STANDARD
BEGIN:DAYLIGHT
TZOFFSETFROM:-0500
TZOFFSETTO:-0400
TZNAME:EDT
DTSTART:20240310T070000
END:DAYLIGHT
BEGIN:STANDARD
TZOFFSETFROM:-0400
TZOFFSETTO:-0500
TZNAME:EST
DTSTART:20241103T060000
END:STANDARD
END:VTIMEZONE
BEGIN:VEVENT
DTSTART;TZID=America/New_York:20230920T183000
DTEND;TZID=America/New_York:20230920T193000
DTSTAMP:20260419T153830
CREATED:20230822T000554Z
LAST-MODIFIED:20230822T000554Z
UID:10000316-1695234600-1695238200@fxbgpride.org
SUMMARY:Rainbow Reads Book Club
DESCRIPTION:An LGBTQ+ and allies book group hosted by Rappahannock Regional Library sponsored by FXBG PRIDE \nSeptember: In Memoriam by Alice Winn \nVisit our Pride Month page for more library resources. \nSuitable for Adults and Seniors \nType: Book Group \nLanguage: English \nLocation: Rappahannock Regional Library – Fredericksburg Branch – 1201 Caroline St. – Room 3. \nDate: Wednesday September 20th. Event is held on the third Wednesday of every month @6:30pm. \nAccessibility: Rappahannock Regional Library is wheelchair accessible with an elevator to multiple floors. Please contact Rappahannock Regional Library for virual access to this event: sara.parker-gray@crrl.org
URL:https://fxbgpride.org/event/rainbow-reads-book-club-3/
LOCATION:Rappahannock Regional Library – Howell Branch\, 1201 Caroline Street\, Fredericksburg\, VA\, 22401\, United States
CATEGORIES:Book Club,Social Support
ORGANIZER;CN="Fredericksburg Pride":MAILTO:fxbgpride@gmail.com
END:VEVENT
END:VCALENDAR