BEGIN:VCALENDAR
VERSION:2.0
PRODID:-//Fredericksburg Pride - ECPv6.15.20//NONSGML v1.0//EN
CALSCALE:GREGORIAN
METHOD:PUBLISH
X-ORIGINAL-URL:https://fxbgpride.org
X-WR-CALDESC:Events for Fredericksburg Pride
REFRESH-INTERVAL;VALUE=DURATION:PT1H
X-Robots-Tag:noindex
X-PUBLISHED-TTL:PT1H
BEGIN:VTIMEZONE
TZID:America/New_York
BEGIN:DAYLIGHT
TZOFFSETFROM:-0500
TZOFFSETTO:-0400
TZNAME:EDT
DTSTART:20220313T070000
END:DAYLIGHT
BEGIN:STANDARD
TZOFFSETFROM:-0400
TZOFFSETTO:-0500
TZNAME:EST
DTSTART:20221106T060000
END:STANDARD
BEGIN:DAYLIGHT
TZOFFSETFROM:-0500
TZOFFSETTO:-0400
TZNAME:EDT
DTSTART:20230312T070000
END:DAYLIGHT
BEGIN:STANDARD
TZOFFSETFROM:-0400
TZOFFSETTO:-0500
TZNAME:EST
DTSTART:20231105T060000
END:STANDARD
BEGIN:DAYLIGHT
TZOFFSETFROM:-0500
TZOFFSETTO:-0400
TZNAME:EDT
DTSTART:20240310T070000
END:DAYLIGHT
BEGIN:STANDARD
TZOFFSETFROM:-0400
TZOFFSETTO:-0500
TZNAME:EST
DTSTART:20241103T060000
END:STANDARD
END:VTIMEZONE
BEGIN:VEVENT
DTSTART;TZID=America/New_York:20230829T183000
DTEND;TZID=America/New_York:20230829T210000
DTSTAMP:20260423T180711
CREATED:20230821T235439Z
LAST-MODIFIED:20230821T235606Z
UID:10000314-1693333800-1693342800@fxbgpride.org
SUMMARY:All Womens - Music on the Steps + Dinner @ Orofino
DESCRIPTION:All Womens Group – Music on the Stairs (Elby Brass) then dinner at Orofino. \n  \nThis social support event is for ALL Women – 18+ belonging in the S2LGBTQIA+ community. \n  \nThis program meets on the last Monday of the month – monthly location subject to change due to that nights activity! \n  \n6:30-7:30 Music On the Steps Link: https://g.co/kgs/t49uxZ (FREE – Location at the Central Rappahannock Regional Library. \n  \n7:45 – 9 Orofino Restaurant Menu: https://orofinorestaurant.com/menu/ \n  \nSHOULD IT RAIN – we will meet for dinner at 7:45! \n  \nCost: Cost of meal – NO purchase necessary to attend \n  \n*Please note this is not an Orofino Sponsored event* \n  \n*Should it rain we will meet at Orofino at 6:30 \n  \nAccessibility: Music on the steps is outside on the brick front patio of the library. Orofino is wheelchair accessible. We will be eating inside. Masks are not required for those fully vaxxed + boosted and encouraged for those who are not. Fredericksburg Pride is happy to accommodate American Sign Language interpreting services if needed – please request this within two weeks of the event by emailing us at fredericksburgpride@gmail.com so that we may have adequate time to schedule an interpreter on site. \n  \nAlt Photo Text: Three sections – tiny purple column\, large blue column with text\, rainbow column. IMAGES: FXBG PRIDE Logo + Cream circle with SEE YOU THERE text and a rainbow heart. Text states: ALL WOMENS Music on the steps (Elby Brass) then DINNER\, August 28th\, 6:30-9:00PM Central Rappahannock Regional LIbrary\, 1201 Caroline St.\, Dinner @ Orofino\, 1006 Caroline St.
URL:https://fxbgpride.org/event/all-womens-dinner-agave/
LOCATION:Rappahannock Regional Library – Howell Branch\, 1201 Caroline Street\, Fredericksburg\, VA\, 22401\, United States
CATEGORIES:All Womens Program,Social Support
ATTACH;FMTTYPE=image/png:https://fxbgpride.org/wp-content/uploads/2023/08/quote-18.png
ORGANIZER;CN="Fredericksburg Pride":MAILTO:fxbgpride@gmail.com
END:VEVENT
END:VCALENDAR