BEGIN:VCALENDAR
VERSION:2.0
PRODID:-//Fredericksburg Pride - ECPv6.15.20//NONSGML v1.0//EN
CALSCALE:GREGORIAN
METHOD:PUBLISH
X-WR-CALNAME:Fredericksburg Pride
X-ORIGINAL-URL:https://fxbgpride.org
X-WR-CALDESC:Events for Fredericksburg Pride
REFRESH-INTERVAL;VALUE=DURATION:PT1H
X-Robots-Tag:noindex
X-PUBLISHED-TTL:PT1H
BEGIN:VTIMEZONE
TZID:America/New_York
BEGIN:DAYLIGHT
TZOFFSETFROM:-0500
TZOFFSETTO:-0400
TZNAME:EDT
DTSTART:20220313T070000
END:DAYLIGHT
BEGIN:STANDARD
TZOFFSETFROM:-0400
TZOFFSETTO:-0500
TZNAME:EST
DTSTART:20221106T060000
END:STANDARD
BEGIN:DAYLIGHT
TZOFFSETFROM:-0500
TZOFFSETTO:-0400
TZNAME:EDT
DTSTART:20230312T070000
END:DAYLIGHT
BEGIN:STANDARD
TZOFFSETFROM:-0400
TZOFFSETTO:-0500
TZNAME:EST
DTSTART:20231105T060000
END:STANDARD
BEGIN:DAYLIGHT
TZOFFSETFROM:-0500
TZOFFSETTO:-0400
TZNAME:EDT
DTSTART:20240310T070000
END:DAYLIGHT
BEGIN:STANDARD
TZOFFSETFROM:-0400
TZOFFSETTO:-0500
TZNAME:EST
DTSTART:20241103T060000
END:STANDARD
END:VTIMEZONE
BEGIN:VEVENT
DTSTART;TZID=America/New_York:20230701T130000
DTEND;TZID=America/New_York:20230701T140000
DTSTAMP:20260421T235023
CREATED:20230614T131005Z
LAST-MODIFIED:20230620T165527Z
UID:10000001-1688216400-1688220000@fxbgpride.org
SUMMARY:Slow Flow Yoga - Pride Month "Cool Down" - FREE
DESCRIPTION:Time & Location\n\n\nWhen: Jul 01\, 1:00 PM – 2:00 PM \nLocation: Dragonfly Yoga Studio – Fredericksburg\, 810 Caroline St &\, 501 William St\, Fredericksburg\, VA 22401\, USA \n\n\n\n\nAbout the Event\n\n\nNeed a cool down and grounding event from Pride Month? \nDragonfly Yoga is hosting FREE Slow Flow Yoga for FXBG Pride on Saturday\, July 1st\, 1:00 PM – 2:00 PM \nJoin us for an opportunity to relax and unwind. Perfect for all levels – no yoga experience necessary. The studio has about 10 yoga mats available to borrow. Participants are encouraged to bring their own yoga mat if possible\, there are limited to borrow.  Everything else needed for practice will be provided. \nAccessibility: Dragonfly Yoga Studio is not wheelchair accessible. There is a flight of stairs to access the studio.
URL:https://fxbgpride.org/event/need-a-cool-down-and-grounding-event-from-pride-month/
LOCATION:Dragonfly Yoga Studio\, 810 Caroline St\, Fredericksburg\, VA\, 22401\, United States
CATEGORIES:Social Support
ATTACH;FMTTYPE=image/png:https://fxbgpride.org/wp-content/uploads/2023/06/Dragonfly-Slow-Flow-Yoga-1.png
ORGANIZER;CN="Fredericksburg Pride":MAILTO:fxbgpride@gmail.com
END:VEVENT
END:VCALENDAR